BEGIN:VCALENDAR
VERSION:2.0
PRODID:-//Leilani&#039;s on the Beach - ECPv6.15.5//NONSGML v1.0//EN
CALSCALE:GREGORIAN
METHOD:PUBLISH
X-ORIGINAL-URL:https://www.leilanis.com
X-WR-CALDESC:Events for Leilani&#039;s on the Beach
REFRESH-INTERVAL;VALUE=DURATION:PT1H
X-Robots-Tag:noindex
X-PUBLISHED-TTL:PT1H
BEGIN:VTIMEZONE
TZID:Pacific/Honolulu
BEGIN:STANDARD
TZOFFSETFROM:-1000
TZOFFSETTO:-1000
TZNAME:HST
DTSTART:20260101T000000
END:STANDARD
END:VTIMEZONE
BEGIN:VEVENT
DTSTART;TZID=Pacific/Honolulu:20260423T180000
DTEND;TZID=Pacific/Honolulu:20260423T200000
DTSTAMP:20260421T072347
CREATED:20231012T212907Z
LAST-MODIFIED:20231012T212907Z
UID:12846-1776967200-1776974400@www.leilanis.com
SUMMARY:Live Music
DESCRIPTION:Every Thursday \n6:00-8:00pm | Jarret and George
URL:https://www.leilanis.com/event/live-music-8/2026-04-23/
LOCATION:2335 Kalakaua Ave #203\, Honolulu\, HI\, 96815\, United States
ATTACH;FMTTYPE=image/jpeg:https://www.leilanis.com/wp-content/uploads/2023/10/istockphoto-477710820-612x612-1.jpeg
GEO:21.2771844;-157.8275909
X-APPLE-STRUCTURED-LOCATION;VALUE=URI;X-ADDRESS=2335 Kalakaua Ave #203 Honolulu HI 96815 United States;X-APPLE-RADIUS=500;X-TITLE=2335 Kalakaua Ave #203:geo:-157.8275909,21.2771844
END:VEVENT
BEGIN:VEVENT
DTSTART;TZID=Pacific/Honolulu:20260430T180000
DTEND;TZID=Pacific/Honolulu:20260430T200000
DTSTAMP:20260421T072347
CREATED:20231012T212907Z
LAST-MODIFIED:20231012T212907Z
UID:12861-1777572000-1777579200@www.leilanis.com
SUMMARY:Live Music
DESCRIPTION:Every Thursday \n6:00-8:00pm | Jarret and George
URL:https://www.leilanis.com/event/live-music-8/2026-04-30/
LOCATION:2335 Kalakaua Ave #203\, Honolulu\, HI\, 96815\, United States
ATTACH;FMTTYPE=image/jpeg:https://www.leilanis.com/wp-content/uploads/2023/10/istockphoto-477710820-612x612-1.jpeg
GEO:21.2771844;-157.8275909
X-APPLE-STRUCTURED-LOCATION;VALUE=URI;X-ADDRESS=2335 Kalakaua Ave #203 Honolulu HI 96815 United States;X-APPLE-RADIUS=500;X-TITLE=2335 Kalakaua Ave #203:geo:-157.8275909,21.2771844
END:VEVENT
BEGIN:VEVENT
DTSTART;TZID=Pacific/Honolulu:20260507T180000
DTEND;TZID=Pacific/Honolulu:20260507T200000
DTSTAMP:20260421T072347
CREATED:20231012T212907Z
LAST-MODIFIED:20231012T212907Z
UID:12878-1778176800-1778184000@www.leilanis.com
SUMMARY:Live Music
DESCRIPTION:Every Thursday \n6:00-8:00pm | Jarret and George
URL:https://www.leilanis.com/event/live-music-8/2026-05-07/
LOCATION:2335 Kalakaua Ave #203\, Honolulu\, HI\, 96815\, United States
ATTACH;FMTTYPE=image/jpeg:https://www.leilanis.com/wp-content/uploads/2023/10/istockphoto-477710820-612x612-1.jpeg
GEO:21.2771844;-157.8275909
X-APPLE-STRUCTURED-LOCATION;VALUE=URI;X-ADDRESS=2335 Kalakaua Ave #203 Honolulu HI 96815 United States;X-APPLE-RADIUS=500;X-TITLE=2335 Kalakaua Ave #203:geo:-157.8275909,21.2771844
END:VEVENT
BEGIN:VEVENT
DTSTART;TZID=Pacific/Honolulu:20260514T180000
DTEND;TZID=Pacific/Honolulu:20260514T200000
DTSTAMP:20260421T072347
CREATED:20231012T212907Z
LAST-MODIFIED:20231012T212907Z
UID:12893-1778781600-1778788800@www.leilanis.com
SUMMARY:Live Music
DESCRIPTION:Every Thursday \n6:00-8:00pm | Jarret and George
URL:https://www.leilanis.com/event/live-music-8/2026-05-14/
LOCATION:2335 Kalakaua Ave #203\, Honolulu\, HI\, 96815\, United States
ATTACH;FMTTYPE=image/jpeg:https://www.leilanis.com/wp-content/uploads/2023/10/istockphoto-477710820-612x612-1.jpeg
GEO:21.2771844;-157.8275909
X-APPLE-STRUCTURED-LOCATION;VALUE=URI;X-ADDRESS=2335 Kalakaua Ave #203 Honolulu HI 96815 United States;X-APPLE-RADIUS=500;X-TITLE=2335 Kalakaua Ave #203:geo:-157.8275909,21.2771844
END:VEVENT
BEGIN:VEVENT
DTSTART;TZID=Pacific/Honolulu:20260521T180000
DTEND;TZID=Pacific/Honolulu:20260521T200000
DTSTAMP:20260421T072347
CREATED:20231012T212907Z
LAST-MODIFIED:20231012T212907Z
UID:12913-1779386400-1779393600@www.leilanis.com
SUMMARY:Live Music
DESCRIPTION:Every Thursday \n6:00-8:00pm | Jarret and George
URL:https://www.leilanis.com/event/live-music-8/2026-05-21/
LOCATION:2335 Kalakaua Ave #203\, Honolulu\, HI\, 96815\, United States
ATTACH;FMTTYPE=image/jpeg:https://www.leilanis.com/wp-content/uploads/2023/10/istockphoto-477710820-612x612-1.jpeg
GEO:21.2771844;-157.8275909
X-APPLE-STRUCTURED-LOCATION;VALUE=URI;X-ADDRESS=2335 Kalakaua Ave #203 Honolulu HI 96815 United States;X-APPLE-RADIUS=500;X-TITLE=2335 Kalakaua Ave #203:geo:-157.8275909,21.2771844
END:VEVENT
BEGIN:VEVENT
DTSTART;TZID=Pacific/Honolulu:20260528T180000
DTEND;TZID=Pacific/Honolulu:20260528T200000
DTSTAMP:20260421T072347
CREATED:20231012T212907Z
LAST-MODIFIED:20231012T212907Z
UID:12932-1779991200-1779998400@www.leilanis.com
SUMMARY:Live Music
DESCRIPTION:Every Thursday \n6:00-8:00pm | Jarret and George
URL:https://www.leilanis.com/event/live-music-8/2026-05-28/
LOCATION:2335 Kalakaua Ave #203\, Honolulu\, HI\, 96815\, United States
ATTACH;FMTTYPE=image/jpeg:https://www.leilanis.com/wp-content/uploads/2023/10/istockphoto-477710820-612x612-1.jpeg
GEO:21.2771844;-157.8275909
X-APPLE-STRUCTURED-LOCATION;VALUE=URI;X-ADDRESS=2335 Kalakaua Ave #203 Honolulu HI 96815 United States;X-APPLE-RADIUS=500;X-TITLE=2335 Kalakaua Ave #203:geo:-157.8275909,21.2771844
END:VEVENT
BEGIN:VEVENT
DTSTART;TZID=Pacific/Honolulu:20260604T180000
DTEND;TZID=Pacific/Honolulu:20260604T200000
DTSTAMP:20260421T072347
CREATED:20231012T212907Z
LAST-MODIFIED:20231012T212907Z
UID:12947-1780596000-1780603200@www.leilanis.com
SUMMARY:Live Music
DESCRIPTION:Every Thursday \n6:00-8:00pm | Jarret and George
URL:https://www.leilanis.com/event/live-music-8/2026-06-04/
LOCATION:2335 Kalakaua Ave #203\, Honolulu\, HI\, 96815\, United States
ATTACH;FMTTYPE=image/jpeg:https://www.leilanis.com/wp-content/uploads/2023/10/istockphoto-477710820-612x612-1.jpeg
GEO:21.2771844;-157.8275909
X-APPLE-STRUCTURED-LOCATION;VALUE=URI;X-ADDRESS=2335 Kalakaua Ave #203 Honolulu HI 96815 United States;X-APPLE-RADIUS=500;X-TITLE=2335 Kalakaua Ave #203:geo:-157.8275909,21.2771844
END:VEVENT
BEGIN:VEVENT
DTSTART;TZID=Pacific/Honolulu:20260611T180000
DTEND;TZID=Pacific/Honolulu:20260611T200000
DTSTAMP:20260421T072347
CREATED:20231012T212907Z
LAST-MODIFIED:20231012T212907Z
UID:12963-1781200800-1781208000@www.leilanis.com
SUMMARY:Live Music
DESCRIPTION:Every Thursday \n6:00-8:00pm | Jarret and George
URL:https://www.leilanis.com/event/live-music-8/2026-06-11/
LOCATION:2335 Kalakaua Ave #203\, Honolulu\, HI\, 96815\, United States
ATTACH;FMTTYPE=image/jpeg:https://www.leilanis.com/wp-content/uploads/2023/10/istockphoto-477710820-612x612-1.jpeg
GEO:21.2771844;-157.8275909
X-APPLE-STRUCTURED-LOCATION;VALUE=URI;X-ADDRESS=2335 Kalakaua Ave #203 Honolulu HI 96815 United States;X-APPLE-RADIUS=500;X-TITLE=2335 Kalakaua Ave #203:geo:-157.8275909,21.2771844
END:VEVENT
BEGIN:VEVENT
DTSTART;TZID=Pacific/Honolulu:20260618T180000
DTEND;TZID=Pacific/Honolulu:20260618T200000
DTSTAMP:20260421T072347
CREATED:20231012T212907Z
LAST-MODIFIED:20231012T212907Z
UID:12982-1781805600-1781812800@www.leilanis.com
SUMMARY:Live Music
DESCRIPTION:Every Thursday \n6:00-8:00pm | Jarret and George
URL:https://www.leilanis.com/event/live-music-8/2026-06-18/
LOCATION:2335 Kalakaua Ave #203\, Honolulu\, HI\, 96815\, United States
ATTACH;FMTTYPE=image/jpeg:https://www.leilanis.com/wp-content/uploads/2023/10/istockphoto-477710820-612x612-1.jpeg
GEO:21.2771844;-157.8275909
X-APPLE-STRUCTURED-LOCATION;VALUE=URI;X-ADDRESS=2335 Kalakaua Ave #203 Honolulu HI 96815 United States;X-APPLE-RADIUS=500;X-TITLE=2335 Kalakaua Ave #203:geo:-157.8275909,21.2771844
END:VEVENT
BEGIN:VEVENT
DTSTART;TZID=Pacific/Honolulu:20260625T180000
DTEND;TZID=Pacific/Honolulu:20260625T200000
DTSTAMP:20260421T072347
CREATED:20231012T212907Z
LAST-MODIFIED:20231012T212907Z
UID:12998-1782410400-1782417600@www.leilanis.com
SUMMARY:Live Music
DESCRIPTION:Every Thursday \n6:00-8:00pm | Jarret and George
URL:https://www.leilanis.com/event/live-music-8/2026-06-25/
LOCATION:2335 Kalakaua Ave #203\, Honolulu\, HI\, 96815\, United States
ATTACH;FMTTYPE=image/jpeg:https://www.leilanis.com/wp-content/uploads/2023/10/istockphoto-477710820-612x612-1.jpeg
GEO:21.2771844;-157.8275909
X-APPLE-STRUCTURED-LOCATION;VALUE=URI;X-ADDRESS=2335 Kalakaua Ave #203 Honolulu HI 96815 United States;X-APPLE-RADIUS=500;X-TITLE=2335 Kalakaua Ave #203:geo:-157.8275909,21.2771844
END:VEVENT
BEGIN:VEVENT
DTSTART;TZID=Pacific/Honolulu:20260702T180000
DTEND;TZID=Pacific/Honolulu:20260702T200000
DTSTAMP:20260421T072347
CREATED:20231012T212907Z
LAST-MODIFIED:20231012T212907Z
UID:13146-1783015200-1783022400@www.leilanis.com
SUMMARY:Live Music
DESCRIPTION:Every Thursday \n6:00-8:00pm | Jarret and George
URL:https://www.leilanis.com/event/live-music-8/2026-07-02/
LOCATION:2335 Kalakaua Ave #203\, Honolulu\, HI\, 96815\, United States
ATTACH;FMTTYPE=image/jpeg:https://www.leilanis.com/wp-content/uploads/2023/10/istockphoto-477710820-612x612-1.jpeg
GEO:21.2771844;-157.8275909
X-APPLE-STRUCTURED-LOCATION;VALUE=URI;X-ADDRESS=2335 Kalakaua Ave #203 Honolulu HI 96815 United States;X-APPLE-RADIUS=500;X-TITLE=2335 Kalakaua Ave #203:geo:-157.8275909,21.2771844
END:VEVENT
BEGIN:VEVENT
DTSTART;TZID=Pacific/Honolulu:20260709T180000
DTEND;TZID=Pacific/Honolulu:20260709T200000
DTSTAMP:20260421T072347
CREATED:20231012T212907Z
LAST-MODIFIED:20231012T212907Z
UID:13659-1783620000-1783627200@www.leilanis.com
SUMMARY:Live Music
DESCRIPTION:Every Thursday \n6:00-8:00pm | Jarret and George
URL:https://www.leilanis.com/event/live-music-8/2026-07-09/
LOCATION:2335 Kalakaua Ave #203\, Honolulu\, HI\, 96815\, United States
ATTACH;FMTTYPE=image/jpeg:https://www.leilanis.com/wp-content/uploads/2023/10/istockphoto-477710820-612x612-1.jpeg
GEO:21.2771844;-157.8275909
X-APPLE-STRUCTURED-LOCATION;VALUE=URI;X-ADDRESS=2335 Kalakaua Ave #203 Honolulu HI 96815 United States;X-APPLE-RADIUS=500;X-TITLE=2335 Kalakaua Ave #203:geo:-157.8275909,21.2771844
END:VEVENT
BEGIN:VEVENT
DTSTART;TZID=Pacific/Honolulu:20260716T180000
DTEND;TZID=Pacific/Honolulu:20260716T200000
DTSTAMP:20260421T072347
CREATED:20231012T212907Z
LAST-MODIFIED:20231012T212907Z
UID:13677-1784224800-1784232000@www.leilanis.com
SUMMARY:Live Music
DESCRIPTION:Every Thursday \n6:00-8:00pm | Jarret and George
URL:https://www.leilanis.com/event/live-music-8/2026-07-16/
LOCATION:2335 Kalakaua Ave #203\, Honolulu\, HI\, 96815\, United States
ATTACH;FMTTYPE=image/jpeg:https://www.leilanis.com/wp-content/uploads/2023/10/istockphoto-477710820-612x612-1.jpeg
GEO:21.2771844;-157.8275909
X-APPLE-STRUCTURED-LOCATION;VALUE=URI;X-ADDRESS=2335 Kalakaua Ave #203 Honolulu HI 96815 United States;X-APPLE-RADIUS=500;X-TITLE=2335 Kalakaua Ave #203:geo:-157.8275909,21.2771844
END:VEVENT
BEGIN:VEVENT
DTSTART;TZID=Pacific/Honolulu:20260723T180000
DTEND;TZID=Pacific/Honolulu:20260723T200000
DTSTAMP:20260421T072347
CREATED:20231012T212907Z
LAST-MODIFIED:20231012T212907Z
UID:13695-1784829600-1784836800@www.leilanis.com
SUMMARY:Live Music
DESCRIPTION:Every Thursday \n6:00-8:00pm | Jarret and George
URL:https://www.leilanis.com/event/live-music-8/2026-07-23/
LOCATION:2335 Kalakaua Ave #203\, Honolulu\, HI\, 96815\, United States
ATTACH;FMTTYPE=image/jpeg:https://www.leilanis.com/wp-content/uploads/2023/10/istockphoto-477710820-612x612-1.jpeg
GEO:21.2771844;-157.8275909
X-APPLE-STRUCTURED-LOCATION;VALUE=URI;X-ADDRESS=2335 Kalakaua Ave #203 Honolulu HI 96815 United States;X-APPLE-RADIUS=500;X-TITLE=2335 Kalakaua Ave #203:geo:-157.8275909,21.2771844
END:VEVENT
BEGIN:VEVENT
DTSTART;TZID=Pacific/Honolulu:20260730T180000
DTEND;TZID=Pacific/Honolulu:20260730T200000
DTSTAMP:20260421T072347
CREATED:20231012T212907Z
LAST-MODIFIED:20231012T212907Z
UID:13713-1785434400-1785441600@www.leilanis.com
SUMMARY:Live Music
DESCRIPTION:Every Thursday \n6:00-8:00pm | Jarret and George
URL:https://www.leilanis.com/event/live-music-8/2026-07-30/
LOCATION:2335 Kalakaua Ave #203\, Honolulu\, HI\, 96815\, United States
ATTACH;FMTTYPE=image/jpeg:https://www.leilanis.com/wp-content/uploads/2023/10/istockphoto-477710820-612x612-1.jpeg
GEO:21.2771844;-157.8275909
X-APPLE-STRUCTURED-LOCATION;VALUE=URI;X-ADDRESS=2335 Kalakaua Ave #203 Honolulu HI 96815 United States;X-APPLE-RADIUS=500;X-TITLE=2335 Kalakaua Ave #203:geo:-157.8275909,21.2771844
END:VEVENT
BEGIN:VEVENT
DTSTART;TZID=Pacific/Honolulu:20260806T180000
DTEND;TZID=Pacific/Honolulu:20260806T200000
DTSTAMP:20260421T072347
CREATED:20231012T212907Z
LAST-MODIFIED:20231012T212907Z
UID:13730-1786039200-1786046400@www.leilanis.com
SUMMARY:Live Music
DESCRIPTION:Every Thursday \n6:00-8:00pm | Jarret and George
URL:https://www.leilanis.com/event/live-music-8/2026-08-06/
LOCATION:2335 Kalakaua Ave #203\, Honolulu\, HI\, 96815\, United States
ATTACH;FMTTYPE=image/jpeg:https://www.leilanis.com/wp-content/uploads/2023/10/istockphoto-477710820-612x612-1.jpeg
GEO:21.2771844;-157.8275909
X-APPLE-STRUCTURED-LOCATION;VALUE=URI;X-ADDRESS=2335 Kalakaua Ave #203 Honolulu HI 96815 United States;X-APPLE-RADIUS=500;X-TITLE=2335 Kalakaua Ave #203:geo:-157.8275909,21.2771844
END:VEVENT
BEGIN:VEVENT
DTSTART;TZID=Pacific/Honolulu:20260813T180000
DTEND;TZID=Pacific/Honolulu:20260813T200000
DTSTAMP:20260421T072347
CREATED:20231012T212907Z
LAST-MODIFIED:20231012T212907Z
UID:13747-1786644000-1786651200@www.leilanis.com
SUMMARY:Live Music
DESCRIPTION:Every Thursday \n6:00-8:00pm | Jarret and George
URL:https://www.leilanis.com/event/live-music-8/2026-08-13/
LOCATION:2335 Kalakaua Ave #203\, Honolulu\, HI\, 96815\, United States
ATTACH;FMTTYPE=image/jpeg:https://www.leilanis.com/wp-content/uploads/2023/10/istockphoto-477710820-612x612-1.jpeg
GEO:21.2771844;-157.8275909
X-APPLE-STRUCTURED-LOCATION;VALUE=URI;X-ADDRESS=2335 Kalakaua Ave #203 Honolulu HI 96815 United States;X-APPLE-RADIUS=500;X-TITLE=2335 Kalakaua Ave #203:geo:-157.8275909,21.2771844
END:VEVENT
BEGIN:VEVENT
DTSTART;TZID=Pacific/Honolulu:20260820T180000
DTEND;TZID=Pacific/Honolulu:20260820T200000
DTSTAMP:20260421T072347
CREATED:20231012T212907Z
LAST-MODIFIED:20231012T212907Z
UID:13764-1787248800-1787256000@www.leilanis.com
SUMMARY:Live Music
DESCRIPTION:Every Thursday \n6:00-8:00pm | Jarret and George
URL:https://www.leilanis.com/event/live-music-8/2026-08-20/
LOCATION:2335 Kalakaua Ave #203\, Honolulu\, HI\, 96815\, United States
ATTACH;FMTTYPE=image/jpeg:https://www.leilanis.com/wp-content/uploads/2023/10/istockphoto-477710820-612x612-1.jpeg
GEO:21.2771844;-157.8275909
X-APPLE-STRUCTURED-LOCATION;VALUE=URI;X-ADDRESS=2335 Kalakaua Ave #203 Honolulu HI 96815 United States;X-APPLE-RADIUS=500;X-TITLE=2335 Kalakaua Ave #203:geo:-157.8275909,21.2771844
END:VEVENT
BEGIN:VEVENT
DTSTART;TZID=Pacific/Honolulu:20260827T180000
DTEND;TZID=Pacific/Honolulu:20260827T200000
DTSTAMP:20260421T072347
CREATED:20231012T212907Z
LAST-MODIFIED:20231012T212907Z
UID:13781-1787853600-1787860800@www.leilanis.com
SUMMARY:Live Music
DESCRIPTION:Every Thursday \n6:00-8:00pm | Jarret and George
URL:https://www.leilanis.com/event/live-music-8/2026-08-27/
LOCATION:2335 Kalakaua Ave #203\, Honolulu\, HI\, 96815\, United States
ATTACH;FMTTYPE=image/jpeg:https://www.leilanis.com/wp-content/uploads/2023/10/istockphoto-477710820-612x612-1.jpeg
GEO:21.2771844;-157.8275909
X-APPLE-STRUCTURED-LOCATION;VALUE=URI;X-ADDRESS=2335 Kalakaua Ave #203 Honolulu HI 96815 United States;X-APPLE-RADIUS=500;X-TITLE=2335 Kalakaua Ave #203:geo:-157.8275909,21.2771844
END:VEVENT
BEGIN:VEVENT
DTSTART;TZID=Pacific/Honolulu:20260903T180000
DTEND;TZID=Pacific/Honolulu:20260903T200000
DTSTAMP:20260421T072347
CREATED:20231012T212907Z
LAST-MODIFIED:20231012T212907Z
UID:13804-1788458400-1788465600@www.leilanis.com
SUMMARY:Live Music
DESCRIPTION:Every Thursday \n6:00-8:00pm | Jarret and George
URL:https://www.leilanis.com/event/live-music-8/2026-09-03/
LOCATION:2335 Kalakaua Ave #203\, Honolulu\, HI\, 96815\, United States
ATTACH;FMTTYPE=image/jpeg:https://www.leilanis.com/wp-content/uploads/2023/10/istockphoto-477710820-612x612-1.jpeg
GEO:21.2771844;-157.8275909
X-APPLE-STRUCTURED-LOCATION;VALUE=URI;X-ADDRESS=2335 Kalakaua Ave #203 Honolulu HI 96815 United States;X-APPLE-RADIUS=500;X-TITLE=2335 Kalakaua Ave #203:geo:-157.8275909,21.2771844
END:VEVENT
BEGIN:VEVENT
DTSTART;TZID=Pacific/Honolulu:20260910T180000
DTEND;TZID=Pacific/Honolulu:20260910T200000
DTSTAMP:20260421T072347
CREATED:20231012T212907Z
LAST-MODIFIED:20231012T212907Z
UID:13821-1789063200-1789070400@www.leilanis.com
SUMMARY:Live Music
DESCRIPTION:Every Thursday \n6:00-8:00pm | Jarret and George
URL:https://www.leilanis.com/event/live-music-8/2026-09-10/
LOCATION:2335 Kalakaua Ave #203\, Honolulu\, HI\, 96815\, United States
ATTACH;FMTTYPE=image/jpeg:https://www.leilanis.com/wp-content/uploads/2023/10/istockphoto-477710820-612x612-1.jpeg
GEO:21.2771844;-157.8275909
X-APPLE-STRUCTURED-LOCATION;VALUE=URI;X-ADDRESS=2335 Kalakaua Ave #203 Honolulu HI 96815 United States;X-APPLE-RADIUS=500;X-TITLE=2335 Kalakaua Ave #203:geo:-157.8275909,21.2771844
END:VEVENT
BEGIN:VEVENT
DTSTART;TZID=Pacific/Honolulu:20260917T180000
DTEND;TZID=Pacific/Honolulu:20260917T200000
DTSTAMP:20260421T072347
CREATED:20231012T212907Z
LAST-MODIFIED:20231012T212907Z
UID:13844-1789668000-1789675200@www.leilanis.com
SUMMARY:Live Music
DESCRIPTION:Every Thursday \n6:00-8:00pm | Jarret and George
URL:https://www.leilanis.com/event/live-music-8/2026-09-17/
LOCATION:2335 Kalakaua Ave #203\, Honolulu\, HI\, 96815\, United States
ATTACH;FMTTYPE=image/jpeg:https://www.leilanis.com/wp-content/uploads/2023/10/istockphoto-477710820-612x612-1.jpeg
GEO:21.2771844;-157.8275909
X-APPLE-STRUCTURED-LOCATION;VALUE=URI;X-ADDRESS=2335 Kalakaua Ave #203 Honolulu HI 96815 United States;X-APPLE-RADIUS=500;X-TITLE=2335 Kalakaua Ave #203:geo:-157.8275909,21.2771844
END:VEVENT
BEGIN:VEVENT
DTSTART;TZID=Pacific/Honolulu:20260924T180000
DTEND;TZID=Pacific/Honolulu:20260924T200000
DTSTAMP:20260421T072347
CREATED:20231012T212907Z
LAST-MODIFIED:20231012T212907Z
UID:13861-1790272800-1790280000@www.leilanis.com
SUMMARY:Live Music
DESCRIPTION:Every Thursday \n6:00-8:00pm | Jarret and George
URL:https://www.leilanis.com/event/live-music-8/2026-09-24/
LOCATION:2335 Kalakaua Ave #203\, Honolulu\, HI\, 96815\, United States
ATTACH;FMTTYPE=image/jpeg:https://www.leilanis.com/wp-content/uploads/2023/10/istockphoto-477710820-612x612-1.jpeg
GEO:21.2771844;-157.8275909
X-APPLE-STRUCTURED-LOCATION;VALUE=URI;X-ADDRESS=2335 Kalakaua Ave #203 Honolulu HI 96815 United States;X-APPLE-RADIUS=500;X-TITLE=2335 Kalakaua Ave #203:geo:-157.8275909,21.2771844
END:VEVENT
BEGIN:VEVENT
DTSTART;TZID=Pacific/Honolulu:20261001T180000
DTEND;TZID=Pacific/Honolulu:20261001T200000
DTSTAMP:20260421T072347
CREATED:20231012T212907Z
LAST-MODIFIED:20231012T212907Z
UID:14311-1790877600-1790884800@www.leilanis.com
SUMMARY:Live Music
DESCRIPTION:Every Thursday \n6:00-8:00pm | Jarret and George
URL:https://www.leilanis.com/event/live-music-8/2026-10-01/
LOCATION:2335 Kalakaua Ave #203\, Honolulu\, HI\, 96815\, United States
ATTACH;FMTTYPE=image/jpeg:https://www.leilanis.com/wp-content/uploads/2023/10/istockphoto-477710820-612x612-1.jpeg
GEO:21.2771844;-157.8275909
X-APPLE-STRUCTURED-LOCATION;VALUE=URI;X-ADDRESS=2335 Kalakaua Ave #203 Honolulu HI 96815 United States;X-APPLE-RADIUS=500;X-TITLE=2335 Kalakaua Ave #203:geo:-157.8275909,21.2771844
END:VEVENT
BEGIN:VEVENT
DTSTART;TZID=Pacific/Honolulu:20261008T180000
DTEND;TZID=Pacific/Honolulu:20261008T200000
DTSTAMP:20260421T072347
CREATED:20231012T212907Z
LAST-MODIFIED:20231012T212907Z
UID:14312-1791482400-1791489600@www.leilanis.com
SUMMARY:Live Music
DESCRIPTION:Every Thursday \n6:00-8:00pm | Jarret and George
URL:https://www.leilanis.com/event/live-music-8/2026-10-08/
LOCATION:2335 Kalakaua Ave #203\, Honolulu\, HI\, 96815\, United States
ATTACH;FMTTYPE=image/jpeg:https://www.leilanis.com/wp-content/uploads/2023/10/istockphoto-477710820-612x612-1.jpeg
GEO:21.2771844;-157.8275909
X-APPLE-STRUCTURED-LOCATION;VALUE=URI;X-ADDRESS=2335 Kalakaua Ave #203 Honolulu HI 96815 United States;X-APPLE-RADIUS=500;X-TITLE=2335 Kalakaua Ave #203:geo:-157.8275909,21.2771844
END:VEVENT
BEGIN:VEVENT
DTSTART;TZID=Pacific/Honolulu:20261015T180000
DTEND;TZID=Pacific/Honolulu:20261015T200000
DTSTAMP:20260421T072347
CREATED:20231012T212907Z
LAST-MODIFIED:20231012T212907Z
UID:14313-1792087200-1792094400@www.leilanis.com
SUMMARY:Live Music
DESCRIPTION:Every Thursday \n6:00-8:00pm | Jarret and George
URL:https://www.leilanis.com/event/live-music-8/2026-10-15/
LOCATION:2335 Kalakaua Ave #203\, Honolulu\, HI\, 96815\, United States
ATTACH;FMTTYPE=image/jpeg:https://www.leilanis.com/wp-content/uploads/2023/10/istockphoto-477710820-612x612-1.jpeg
GEO:21.2771844;-157.8275909
X-APPLE-STRUCTURED-LOCATION;VALUE=URI;X-ADDRESS=2335 Kalakaua Ave #203 Honolulu HI 96815 United States;X-APPLE-RADIUS=500;X-TITLE=2335 Kalakaua Ave #203:geo:-157.8275909,21.2771844
END:VEVENT
BEGIN:VEVENT
DTSTART;TZID=Pacific/Honolulu:20261022T180000
DTEND;TZID=Pacific/Honolulu:20261022T200000
DTSTAMP:20260421T072347
CREATED:20231012T212907Z
LAST-MODIFIED:20231012T212907Z
UID:14314-1792692000-1792699200@www.leilanis.com
SUMMARY:Live Music
DESCRIPTION:Every Thursday \n6:00-8:00pm | Jarret and George
URL:https://www.leilanis.com/event/live-music-8/2026-10-22/
LOCATION:2335 Kalakaua Ave #203\, Honolulu\, HI\, 96815\, United States
ATTACH;FMTTYPE=image/jpeg:https://www.leilanis.com/wp-content/uploads/2023/10/istockphoto-477710820-612x612-1.jpeg
GEO:21.2771844;-157.8275909
X-APPLE-STRUCTURED-LOCATION;VALUE=URI;X-ADDRESS=2335 Kalakaua Ave #203 Honolulu HI 96815 United States;X-APPLE-RADIUS=500;X-TITLE=2335 Kalakaua Ave #203:geo:-157.8275909,21.2771844
END:VEVENT
BEGIN:VEVENT
DTSTART;TZID=Pacific/Honolulu:20261029T180000
DTEND;TZID=Pacific/Honolulu:20261029T200000
DTSTAMP:20260421T072347
CREATED:20231012T212907Z
LAST-MODIFIED:20231012T212907Z
UID:14315-1793296800-1793304000@www.leilanis.com
SUMMARY:Live Music
DESCRIPTION:Every Thursday \n6:00-8:00pm | Jarret and George
URL:https://www.leilanis.com/event/live-music-8/2026-10-29/
LOCATION:2335 Kalakaua Ave #203\, Honolulu\, HI\, 96815\, United States
ATTACH;FMTTYPE=image/jpeg:https://www.leilanis.com/wp-content/uploads/2023/10/istockphoto-477710820-612x612-1.jpeg
GEO:21.2771844;-157.8275909
X-APPLE-STRUCTURED-LOCATION;VALUE=URI;X-ADDRESS=2335 Kalakaua Ave #203 Honolulu HI 96815 United States;X-APPLE-RADIUS=500;X-TITLE=2335 Kalakaua Ave #203:geo:-157.8275909,21.2771844
END:VEVENT
BEGIN:VEVENT
DTSTART;TZID=Pacific/Honolulu:20261105T180000
DTEND;TZID=Pacific/Honolulu:20261105T200000
DTSTAMP:20260421T072347
CREATED:20231012T212907Z
LAST-MODIFIED:20231012T212907Z
UID:14316-1793901600-1793908800@www.leilanis.com
SUMMARY:Live Music
DESCRIPTION:Every Thursday \n6:00-8:00pm | Jarret and George
URL:https://www.leilanis.com/event/live-music-8/2026-11-05/
LOCATION:2335 Kalakaua Ave #203\, Honolulu\, HI\, 96815\, United States
ATTACH;FMTTYPE=image/jpeg:https://www.leilanis.com/wp-content/uploads/2023/10/istockphoto-477710820-612x612-1.jpeg
GEO:21.2771844;-157.8275909
X-APPLE-STRUCTURED-LOCATION;VALUE=URI;X-ADDRESS=2335 Kalakaua Ave #203 Honolulu HI 96815 United States;X-APPLE-RADIUS=500;X-TITLE=2335 Kalakaua Ave #203:geo:-157.8275909,21.2771844
END:VEVENT
BEGIN:VEVENT
DTSTART;TZID=Pacific/Honolulu:20261112T180000
DTEND;TZID=Pacific/Honolulu:20261112T200000
DTSTAMP:20260421T072347
CREATED:20231012T212907Z
LAST-MODIFIED:20231012T212907Z
UID:14317-1794506400-1794513600@www.leilanis.com
SUMMARY:Live Music
DESCRIPTION:Every Thursday \n6:00-8:00pm | Jarret and George
URL:https://www.leilanis.com/event/live-music-8/2026-11-12/
LOCATION:2335 Kalakaua Ave #203\, Honolulu\, HI\, 96815\, United States
ATTACH;FMTTYPE=image/jpeg:https://www.leilanis.com/wp-content/uploads/2023/10/istockphoto-477710820-612x612-1.jpeg
GEO:21.2771844;-157.8275909
X-APPLE-STRUCTURED-LOCATION;VALUE=URI;X-ADDRESS=2335 Kalakaua Ave #203 Honolulu HI 96815 United States;X-APPLE-RADIUS=500;X-TITLE=2335 Kalakaua Ave #203:geo:-157.8275909,21.2771844
END:VEVENT
END:VCALENDAR