BEGIN:VCALENDAR
VERSION:2.0
PRODID:-//Leilani&#039;s on the Beach - ECPv6.15.5//NONSGML v1.0//EN
CALSCALE:GREGORIAN
METHOD:PUBLISH
X-WR-CALNAME:Leilani&#039;s on the Beach
X-ORIGINAL-URL:https://www.leilanis.com
X-WR-CALDESC:Events for Leilani&#039;s on the Beach
REFRESH-INTERVAL;VALUE=DURATION:PT1H
X-Robots-Tag:noindex
X-PUBLISHED-TTL:PT1H
BEGIN:VTIMEZONE
TZID:Pacific/Honolulu
BEGIN:STANDARD
TZOFFSETFROM:-1000
TZOFFSETTO:-1000
TZNAME:HST
DTSTART:20250101T000000
END:STANDARD
END:VTIMEZONE
BEGIN:VEVENT
DTSTART;TZID=Pacific/Honolulu:20260416T180000
DTEND;TZID=Pacific/Honolulu:20260416T200000
DTSTAMP:20260421T085640
CREATED:20231012T212907Z
LAST-MODIFIED:20231012T212907Z
UID:12831-1776362400-1776369600@www.leilanis.com
SUMMARY:Live Music
DESCRIPTION:Every Thursday \n6:00-8:00pm | Jarret and George
URL:https://www.leilanis.com/event/live-music-8/2026-04-16/
LOCATION:2335 Kalakaua Ave #203\, Honolulu\, HI\, 96815\, United States
ATTACH;FMTTYPE=image/jpeg:https://www.leilanis.com/wp-content/uploads/2023/10/istockphoto-477710820-612x612-1.jpeg
GEO:21.2771844;-157.8275909
X-APPLE-STRUCTURED-LOCATION;VALUE=URI;X-ADDRESS=2335 Kalakaua Ave #203 Honolulu HI 96815 United States;X-APPLE-RADIUS=500;X-TITLE=2335 Kalakaua Ave #203:geo:-157.8275909,21.2771844
END:VEVENT
BEGIN:VEVENT
DTSTART;TZID=Pacific/Honolulu:20260409T180000
DTEND;TZID=Pacific/Honolulu:20260409T200000
DTSTAMP:20260421T085640
CREATED:20231012T212907Z
LAST-MODIFIED:20231012T212907Z
UID:12816-1775757600-1775764800@www.leilanis.com
SUMMARY:Live Music
DESCRIPTION:Every Thursday \n6:00-8:00pm | Jarret and George
URL:https://www.leilanis.com/event/live-music-8/2026-04-09/
LOCATION:2335 Kalakaua Ave #203\, Honolulu\, HI\, 96815\, United States
ATTACH;FMTTYPE=image/jpeg:https://www.leilanis.com/wp-content/uploads/2023/10/istockphoto-477710820-612x612-1.jpeg
GEO:21.2771844;-157.8275909
X-APPLE-STRUCTURED-LOCATION;VALUE=URI;X-ADDRESS=2335 Kalakaua Ave #203 Honolulu HI 96815 United States;X-APPLE-RADIUS=500;X-TITLE=2335 Kalakaua Ave #203:geo:-157.8275909,21.2771844
END:VEVENT
BEGIN:VEVENT
DTSTART;TZID=Pacific/Honolulu:20260402T180000
DTEND;TZID=Pacific/Honolulu:20260402T200000
DTSTAMP:20260421T085640
CREATED:20231012T212907Z
LAST-MODIFIED:20231012T212907Z
UID:12801-1775152800-1775160000@www.leilanis.com
SUMMARY:Live Music
DESCRIPTION:Every Thursday \n6:00-8:00pm | Jarret and George
URL:https://www.leilanis.com/event/live-music-8/2026-04-02/
LOCATION:2335 Kalakaua Ave #203\, Honolulu\, HI\, 96815\, United States
ATTACH;FMTTYPE=image/jpeg:https://www.leilanis.com/wp-content/uploads/2023/10/istockphoto-477710820-612x612-1.jpeg
GEO:21.2771844;-157.8275909
X-APPLE-STRUCTURED-LOCATION;VALUE=URI;X-ADDRESS=2335 Kalakaua Ave #203 Honolulu HI 96815 United States;X-APPLE-RADIUS=500;X-TITLE=2335 Kalakaua Ave #203:geo:-157.8275909,21.2771844
END:VEVENT
BEGIN:VEVENT
DTSTART;TZID=Pacific/Honolulu:20260326T180000
DTEND;TZID=Pacific/Honolulu:20260326T200000
DTSTAMP:20260421T085640
CREATED:20231012T212907Z
LAST-MODIFIED:20231012T212907Z
UID:12786-1774548000-1774555200@www.leilanis.com
SUMMARY:Live Music
DESCRIPTION:Every Thursday \n6:00-8:00pm | Jarret and George
URL:https://www.leilanis.com/event/live-music-8/2026-03-26/
LOCATION:2335 Kalakaua Ave #203\, Honolulu\, HI\, 96815\, United States
ATTACH;FMTTYPE=image/jpeg:https://www.leilanis.com/wp-content/uploads/2023/10/istockphoto-477710820-612x612-1.jpeg
GEO:21.2771844;-157.8275909
X-APPLE-STRUCTURED-LOCATION;VALUE=URI;X-ADDRESS=2335 Kalakaua Ave #203 Honolulu HI 96815 United States;X-APPLE-RADIUS=500;X-TITLE=2335 Kalakaua Ave #203:geo:-157.8275909,21.2771844
END:VEVENT
BEGIN:VEVENT
DTSTART;TZID=Pacific/Honolulu:20260319T180000
DTEND;TZID=Pacific/Honolulu:20260319T200000
DTSTAMP:20260421T085640
CREATED:20231012T212907Z
LAST-MODIFIED:20231012T212907Z
UID:12771-1773943200-1773950400@www.leilanis.com
SUMMARY:Live Music
DESCRIPTION:Every Thursday \n6:00-8:00pm | Jarret and George
URL:https://www.leilanis.com/event/live-music-8/2026-03-19/
LOCATION:2335 Kalakaua Ave #203\, Honolulu\, HI\, 96815\, United States
ATTACH;FMTTYPE=image/jpeg:https://www.leilanis.com/wp-content/uploads/2023/10/istockphoto-477710820-612x612-1.jpeg
GEO:21.2771844;-157.8275909
X-APPLE-STRUCTURED-LOCATION;VALUE=URI;X-ADDRESS=2335 Kalakaua Ave #203 Honolulu HI 96815 United States;X-APPLE-RADIUS=500;X-TITLE=2335 Kalakaua Ave #203:geo:-157.8275909,21.2771844
END:VEVENT
BEGIN:VEVENT
DTSTART;TZID=Pacific/Honolulu:20260312T180000
DTEND;TZID=Pacific/Honolulu:20260312T200000
DTSTAMP:20260421T085640
CREATED:20231012T212907Z
LAST-MODIFIED:20231012T212907Z
UID:12756-1773338400-1773345600@www.leilanis.com
SUMMARY:Live Music
DESCRIPTION:Every Thursday \n6:00-8:00pm | Jarret and George
URL:https://www.leilanis.com/event/live-music-8/2026-03-12/
LOCATION:2335 Kalakaua Ave #203\, Honolulu\, HI\, 96815\, United States
ATTACH;FMTTYPE=image/jpeg:https://www.leilanis.com/wp-content/uploads/2023/10/istockphoto-477710820-612x612-1.jpeg
GEO:21.2771844;-157.8275909
X-APPLE-STRUCTURED-LOCATION;VALUE=URI;X-ADDRESS=2335 Kalakaua Ave #203 Honolulu HI 96815 United States;X-APPLE-RADIUS=500;X-TITLE=2335 Kalakaua Ave #203:geo:-157.8275909,21.2771844
END:VEVENT
BEGIN:VEVENT
DTSTART;TZID=Pacific/Honolulu:20260305T180000
DTEND;TZID=Pacific/Honolulu:20260305T200000
DTSTAMP:20260421T085640
CREATED:20231012T212907Z
LAST-MODIFIED:20231012T212907Z
UID:12741-1772733600-1772740800@www.leilanis.com
SUMMARY:Live Music
DESCRIPTION:Every Thursday \n6:00-8:00pm | Jarret and George
URL:https://www.leilanis.com/event/live-music-8/2026-03-05/
LOCATION:2335 Kalakaua Ave #203\, Honolulu\, HI\, 96815\, United States
ATTACH;FMTTYPE=image/jpeg:https://www.leilanis.com/wp-content/uploads/2023/10/istockphoto-477710820-612x612-1.jpeg
GEO:21.2771844;-157.8275909
X-APPLE-STRUCTURED-LOCATION;VALUE=URI;X-ADDRESS=2335 Kalakaua Ave #203 Honolulu HI 96815 United States;X-APPLE-RADIUS=500;X-TITLE=2335 Kalakaua Ave #203:geo:-157.8275909,21.2771844
END:VEVENT
BEGIN:VEVENT
DTSTART;TZID=Pacific/Honolulu:20260226T180000
DTEND;TZID=Pacific/Honolulu:20260226T200000
DTSTAMP:20260421T085640
CREATED:20231012T212907Z
LAST-MODIFIED:20231012T212907Z
UID:12726-1772128800-1772136000@www.leilanis.com
SUMMARY:Live Music
DESCRIPTION:Every Thursday \n6:00-8:00pm | Jarret and George
URL:https://www.leilanis.com/event/live-music-8/2026-02-26/
LOCATION:2335 Kalakaua Ave #203\, Honolulu\, HI\, 96815\, United States
ATTACH;FMTTYPE=image/jpeg:https://www.leilanis.com/wp-content/uploads/2023/10/istockphoto-477710820-612x612-1.jpeg
GEO:21.2771844;-157.8275909
X-APPLE-STRUCTURED-LOCATION;VALUE=URI;X-ADDRESS=2335 Kalakaua Ave #203 Honolulu HI 96815 United States;X-APPLE-RADIUS=500;X-TITLE=2335 Kalakaua Ave #203:geo:-157.8275909,21.2771844
END:VEVENT
BEGIN:VEVENT
DTSTART;TZID=Pacific/Honolulu:20260219T180000
DTEND;TZID=Pacific/Honolulu:20260219T200000
DTSTAMP:20260421T085640
CREATED:20231012T212907Z
LAST-MODIFIED:20231012T212907Z
UID:12711-1771524000-1771531200@www.leilanis.com
SUMMARY:Live Music
DESCRIPTION:Every Thursday \n6:00-8:00pm | Jarret and George
URL:https://www.leilanis.com/event/live-music-8/2026-02-19/
LOCATION:2335 Kalakaua Ave #203\, Honolulu\, HI\, 96815\, United States
ATTACH;FMTTYPE=image/jpeg:https://www.leilanis.com/wp-content/uploads/2023/10/istockphoto-477710820-612x612-1.jpeg
GEO:21.2771844;-157.8275909
X-APPLE-STRUCTURED-LOCATION;VALUE=URI;X-ADDRESS=2335 Kalakaua Ave #203 Honolulu HI 96815 United States;X-APPLE-RADIUS=500;X-TITLE=2335 Kalakaua Ave #203:geo:-157.8275909,21.2771844
END:VEVENT
BEGIN:VEVENT
DTSTART;TZID=Pacific/Honolulu:20260212T180000
DTEND;TZID=Pacific/Honolulu:20260212T200000
DTSTAMP:20260421T085640
CREATED:20231012T212907Z
LAST-MODIFIED:20231012T212907Z
UID:12695-1770919200-1770926400@www.leilanis.com
SUMMARY:Live Music
DESCRIPTION:Every Thursday \n6:00-8:00pm | Jarret and George
URL:https://www.leilanis.com/event/live-music-8/2026-02-12/
LOCATION:2335 Kalakaua Ave #203\, Honolulu\, HI\, 96815\, United States
ATTACH;FMTTYPE=image/jpeg:https://www.leilanis.com/wp-content/uploads/2023/10/istockphoto-477710820-612x612-1.jpeg
GEO:21.2771844;-157.8275909
X-APPLE-STRUCTURED-LOCATION;VALUE=URI;X-ADDRESS=2335 Kalakaua Ave #203 Honolulu HI 96815 United States;X-APPLE-RADIUS=500;X-TITLE=2335 Kalakaua Ave #203:geo:-157.8275909,21.2771844
END:VEVENT
BEGIN:VEVENT
DTSTART;TZID=Pacific/Honolulu:20260205T180000
DTEND;TZID=Pacific/Honolulu:20260205T200000
DTSTAMP:20260421T085640
CREATED:20231012T212907Z
LAST-MODIFIED:20231012T212907Z
UID:12677-1770314400-1770321600@www.leilanis.com
SUMMARY:Live Music
DESCRIPTION:Every Thursday \n6:00-8:00pm | Jarret and George
URL:https://www.leilanis.com/event/live-music-8/2026-02-05/
LOCATION:2335 Kalakaua Ave #203\, Honolulu\, HI\, 96815\, United States
ATTACH;FMTTYPE=image/jpeg:https://www.leilanis.com/wp-content/uploads/2023/10/istockphoto-477710820-612x612-1.jpeg
GEO:21.2771844;-157.8275909
X-APPLE-STRUCTURED-LOCATION;VALUE=URI;X-ADDRESS=2335 Kalakaua Ave #203 Honolulu HI 96815 United States;X-APPLE-RADIUS=500;X-TITLE=2335 Kalakaua Ave #203:geo:-157.8275909,21.2771844
END:VEVENT
BEGIN:VEVENT
DTSTART;TZID=Pacific/Honolulu:20260129T180000
DTEND;TZID=Pacific/Honolulu:20260129T200000
DTSTAMP:20260421T085640
CREATED:20231012T212907Z
LAST-MODIFIED:20231012T212907Z
UID:12662-1769709600-1769716800@www.leilanis.com
SUMMARY:Live Music
DESCRIPTION:Every Thursday \n6:00-8:00pm | Jarret and George
URL:https://www.leilanis.com/event/live-music-8/2026-01-29/
LOCATION:2335 Kalakaua Ave #203\, Honolulu\, HI\, 96815\, United States
ATTACH;FMTTYPE=image/jpeg:https://www.leilanis.com/wp-content/uploads/2023/10/istockphoto-477710820-612x612-1.jpeg
GEO:21.2771844;-157.8275909
X-APPLE-STRUCTURED-LOCATION;VALUE=URI;X-ADDRESS=2335 Kalakaua Ave #203 Honolulu HI 96815 United States;X-APPLE-RADIUS=500;X-TITLE=2335 Kalakaua Ave #203:geo:-157.8275909,21.2771844
END:VEVENT
BEGIN:VEVENT
DTSTART;TZID=Pacific/Honolulu:20260122T180000
DTEND;TZID=Pacific/Honolulu:20260122T200000
DTSTAMP:20260421T085640
CREATED:20231012T212907Z
LAST-MODIFIED:20231012T212907Z
UID:12643-1769104800-1769112000@www.leilanis.com
SUMMARY:Live Music
DESCRIPTION:Every Thursday \n6:00-8:00pm | Jarret and George
URL:https://www.leilanis.com/event/live-music-8/2026-01-22/
LOCATION:2335 Kalakaua Ave #203\, Honolulu\, HI\, 96815\, United States
ATTACH;FMTTYPE=image/jpeg:https://www.leilanis.com/wp-content/uploads/2023/10/istockphoto-477710820-612x612-1.jpeg
GEO:21.2771844;-157.8275909
X-APPLE-STRUCTURED-LOCATION;VALUE=URI;X-ADDRESS=2335 Kalakaua Ave #203 Honolulu HI 96815 United States;X-APPLE-RADIUS=500;X-TITLE=2335 Kalakaua Ave #203:geo:-157.8275909,21.2771844
END:VEVENT
BEGIN:VEVENT
DTSTART;TZID=Pacific/Honolulu:20260115T180000
DTEND;TZID=Pacific/Honolulu:20260115T200000
DTSTAMP:20260421T085640
CREATED:20231012T212907Z
LAST-MODIFIED:20231012T212907Z
UID:12628-1768500000-1768507200@www.leilanis.com
SUMMARY:Live Music
DESCRIPTION:Every Thursday \n6:00-8:00pm | Jarret and George
URL:https://www.leilanis.com/event/live-music-8/2026-01-15/
LOCATION:2335 Kalakaua Ave #203\, Honolulu\, HI\, 96815\, United States
ATTACH;FMTTYPE=image/jpeg:https://www.leilanis.com/wp-content/uploads/2023/10/istockphoto-477710820-612x612-1.jpeg
GEO:21.2771844;-157.8275909
X-APPLE-STRUCTURED-LOCATION;VALUE=URI;X-ADDRESS=2335 Kalakaua Ave #203 Honolulu HI 96815 United States;X-APPLE-RADIUS=500;X-TITLE=2335 Kalakaua Ave #203:geo:-157.8275909,21.2771844
END:VEVENT
BEGIN:VEVENT
DTSTART;TZID=Pacific/Honolulu:20260108T180000
DTEND;TZID=Pacific/Honolulu:20260108T200000
DTSTAMP:20260421T085640
CREATED:20231012T212907Z
LAST-MODIFIED:20231012T212907Z
UID:12559-1767895200-1767902400@www.leilanis.com
SUMMARY:Live Music
DESCRIPTION:Every Thursday \n6:00-8:00pm | Jarret and George
URL:https://www.leilanis.com/event/live-music-8/2026-01-08/
LOCATION:2335 Kalakaua Ave #203\, Honolulu\, HI\, 96815\, United States
ATTACH;FMTTYPE=image/jpeg:https://www.leilanis.com/wp-content/uploads/2023/10/istockphoto-477710820-612x612-1.jpeg
GEO:21.2771844;-157.8275909
X-APPLE-STRUCTURED-LOCATION;VALUE=URI;X-ADDRESS=2335 Kalakaua Ave #203 Honolulu HI 96815 United States;X-APPLE-RADIUS=500;X-TITLE=2335 Kalakaua Ave #203:geo:-157.8275909,21.2771844
END:VEVENT
BEGIN:VEVENT
DTSTART;TZID=Pacific/Honolulu:20260101T180000
DTEND;TZID=Pacific/Honolulu:20260101T200000
DTSTAMP:20260421T085640
CREATED:20231012T212907Z
LAST-MODIFIED:20231012T212907Z
UID:12544-1767290400-1767297600@www.leilanis.com
SUMMARY:Live Music
DESCRIPTION:Every Thursday \n6:00-8:00pm | Jarret and George
URL:https://www.leilanis.com/event/live-music-8/2026-01-01/
LOCATION:2335 Kalakaua Ave #203\, Honolulu\, HI\, 96815\, United States
ATTACH;FMTTYPE=image/jpeg:https://www.leilanis.com/wp-content/uploads/2023/10/istockphoto-477710820-612x612-1.jpeg
GEO:21.2771844;-157.8275909
X-APPLE-STRUCTURED-LOCATION;VALUE=URI;X-ADDRESS=2335 Kalakaua Ave #203 Honolulu HI 96815 United States;X-APPLE-RADIUS=500;X-TITLE=2335 Kalakaua Ave #203:geo:-157.8275909,21.2771844
END:VEVENT
BEGIN:VEVENT
DTSTART;TZID=Pacific/Honolulu:20251225T180000
DTEND;TZID=Pacific/Honolulu:20251225T200000
DTSTAMP:20260421T085640
CREATED:20231012T212907Z
LAST-MODIFIED:20231012T212907Z
UID:12529-1766685600-1766692800@www.leilanis.com
SUMMARY:Live Music
DESCRIPTION:Every Thursday \n6:00-8:00pm | Jarret and George
URL:https://www.leilanis.com/event/live-music-8/2025-12-25/
LOCATION:2335 Kalakaua Ave #203\, Honolulu\, HI\, 96815\, United States
ATTACH;FMTTYPE=image/jpeg:https://www.leilanis.com/wp-content/uploads/2023/10/istockphoto-477710820-612x612-1.jpeg
GEO:21.2771844;-157.8275909
X-APPLE-STRUCTURED-LOCATION;VALUE=URI;X-ADDRESS=2335 Kalakaua Ave #203 Honolulu HI 96815 United States;X-APPLE-RADIUS=500;X-TITLE=2335 Kalakaua Ave #203:geo:-157.8275909,21.2771844
END:VEVENT
BEGIN:VEVENT
DTSTART;TZID=Pacific/Honolulu:20251218T180000
DTEND;TZID=Pacific/Honolulu:20251218T200000
DTSTAMP:20260421T085640
CREATED:20231012T212907Z
LAST-MODIFIED:20231012T212907Z
UID:12514-1766080800-1766088000@www.leilanis.com
SUMMARY:Live Music
DESCRIPTION:Every Thursday \n6:00-8:00pm | Jarret and George
URL:https://www.leilanis.com/event/live-music-8/2025-12-18/
LOCATION:2335 Kalakaua Ave #203\, Honolulu\, HI\, 96815\, United States
ATTACH;FMTTYPE=image/jpeg:https://www.leilanis.com/wp-content/uploads/2023/10/istockphoto-477710820-612x612-1.jpeg
GEO:21.2771844;-157.8275909
X-APPLE-STRUCTURED-LOCATION;VALUE=URI;X-ADDRESS=2335 Kalakaua Ave #203 Honolulu HI 96815 United States;X-APPLE-RADIUS=500;X-TITLE=2335 Kalakaua Ave #203:geo:-157.8275909,21.2771844
END:VEVENT
BEGIN:VEVENT
DTSTART;TZID=Pacific/Honolulu:20251211T180000
DTEND;TZID=Pacific/Honolulu:20251211T200000
DTSTAMP:20260421T085640
CREATED:20231012T212907Z
LAST-MODIFIED:20231012T212907Z
UID:12498-1765476000-1765483200@www.leilanis.com
SUMMARY:Live Music
DESCRIPTION:Every Thursday \n6:00-8:00pm | Jarret and George
URL:https://www.leilanis.com/event/live-music-8/2025-12-11/
LOCATION:2335 Kalakaua Ave #203\, Honolulu\, HI\, 96815\, United States
ATTACH;FMTTYPE=image/jpeg:https://www.leilanis.com/wp-content/uploads/2023/10/istockphoto-477710820-612x612-1.jpeg
GEO:21.2771844;-157.8275909
X-APPLE-STRUCTURED-LOCATION;VALUE=URI;X-ADDRESS=2335 Kalakaua Ave #203 Honolulu HI 96815 United States;X-APPLE-RADIUS=500;X-TITLE=2335 Kalakaua Ave #203:geo:-157.8275909,21.2771844
END:VEVENT
BEGIN:VEVENT
DTSTART;TZID=Pacific/Honolulu:20251204T180000
DTEND;TZID=Pacific/Honolulu:20251204T200000
DTSTAMP:20260421T085640
CREATED:20231012T212907Z
LAST-MODIFIED:20231012T212907Z
UID:12482-1764871200-1764878400@www.leilanis.com
SUMMARY:Live Music
DESCRIPTION:Every Thursday \n6:00-8:00pm | Jarret and George
URL:https://www.leilanis.com/event/live-music-8/2025-12-04/
LOCATION:2335 Kalakaua Ave #203\, Honolulu\, HI\, 96815\, United States
ATTACH;FMTTYPE=image/jpeg:https://www.leilanis.com/wp-content/uploads/2023/10/istockphoto-477710820-612x612-1.jpeg
GEO:21.2771844;-157.8275909
X-APPLE-STRUCTURED-LOCATION;VALUE=URI;X-ADDRESS=2335 Kalakaua Ave #203 Honolulu HI 96815 United States;X-APPLE-RADIUS=500;X-TITLE=2335 Kalakaua Ave #203:geo:-157.8275909,21.2771844
END:VEVENT
BEGIN:VEVENT
DTSTART;TZID=Pacific/Honolulu:20251127T180000
DTEND;TZID=Pacific/Honolulu:20251127T200000
DTSTAMP:20260421T085640
CREATED:20231012T212907Z
LAST-MODIFIED:20231012T212907Z
UID:12466-1764266400-1764273600@www.leilanis.com
SUMMARY:Live Music
DESCRIPTION:Every Thursday \n6:00-8:00pm | Jarret and George
URL:https://www.leilanis.com/event/live-music-8/2025-11-27/
LOCATION:2335 Kalakaua Ave #203\, Honolulu\, HI\, 96815\, United States
ATTACH;FMTTYPE=image/jpeg:https://www.leilanis.com/wp-content/uploads/2023/10/istockphoto-477710820-612x612-1.jpeg
GEO:21.2771844;-157.8275909
X-APPLE-STRUCTURED-LOCATION;VALUE=URI;X-ADDRESS=2335 Kalakaua Ave #203 Honolulu HI 96815 United States;X-APPLE-RADIUS=500;X-TITLE=2335 Kalakaua Ave #203:geo:-157.8275909,21.2771844
END:VEVENT
BEGIN:VEVENT
DTSTART;TZID=Pacific/Honolulu:20251120T180000
DTEND;TZID=Pacific/Honolulu:20251120T200000
DTSTAMP:20260421T085640
CREATED:20231012T212907Z
LAST-MODIFIED:20231012T212907Z
UID:12446-1763661600-1763668800@www.leilanis.com
SUMMARY:Live Music
DESCRIPTION:Every Thursday \n6:00-8:00pm | Jarret and George
URL:https://www.leilanis.com/event/live-music-8/2025-11-20/
LOCATION:2335 Kalakaua Ave #203\, Honolulu\, HI\, 96815\, United States
ATTACH;FMTTYPE=image/jpeg:https://www.leilanis.com/wp-content/uploads/2023/10/istockphoto-477710820-612x612-1.jpeg
GEO:21.2771844;-157.8275909
X-APPLE-STRUCTURED-LOCATION;VALUE=URI;X-ADDRESS=2335 Kalakaua Ave #203 Honolulu HI 96815 United States;X-APPLE-RADIUS=500;X-TITLE=2335 Kalakaua Ave #203:geo:-157.8275909,21.2771844
END:VEVENT
BEGIN:VEVENT
DTSTART;TZID=Pacific/Honolulu:20251113T180000
DTEND;TZID=Pacific/Honolulu:20251113T200000
DTSTAMP:20260421T085640
CREATED:20231012T212907Z
LAST-MODIFIED:20231012T212907Z
UID:12431-1763056800-1763064000@www.leilanis.com
SUMMARY:Live Music
DESCRIPTION:Every Thursday \n6:00-8:00pm | Jarret and George
URL:https://www.leilanis.com/event/live-music-8/2025-11-13/
LOCATION:2335 Kalakaua Ave #203\, Honolulu\, HI\, 96815\, United States
ATTACH;FMTTYPE=image/jpeg:https://www.leilanis.com/wp-content/uploads/2023/10/istockphoto-477710820-612x612-1.jpeg
GEO:21.2771844;-157.8275909
X-APPLE-STRUCTURED-LOCATION;VALUE=URI;X-ADDRESS=2335 Kalakaua Ave #203 Honolulu HI 96815 United States;X-APPLE-RADIUS=500;X-TITLE=2335 Kalakaua Ave #203:geo:-157.8275909,21.2771844
END:VEVENT
BEGIN:VEVENT
DTSTART;TZID=Pacific/Honolulu:20251106T180000
DTEND;TZID=Pacific/Honolulu:20251106T200000
DTSTAMP:20260421T085640
CREATED:20231012T212907Z
LAST-MODIFIED:20231012T212907Z
UID:12411-1762452000-1762459200@www.leilanis.com
SUMMARY:Live Music
DESCRIPTION:Every Thursday \n6:00-8:00pm | Jarret and George
URL:https://www.leilanis.com/event/live-music-8/2025-11-06/
LOCATION:2335 Kalakaua Ave #203\, Honolulu\, HI\, 96815\, United States
ATTACH;FMTTYPE=image/jpeg:https://www.leilanis.com/wp-content/uploads/2023/10/istockphoto-477710820-612x612-1.jpeg
GEO:21.2771844;-157.8275909
X-APPLE-STRUCTURED-LOCATION;VALUE=URI;X-ADDRESS=2335 Kalakaua Ave #203 Honolulu HI 96815 United States;X-APPLE-RADIUS=500;X-TITLE=2335 Kalakaua Ave #203:geo:-157.8275909,21.2771844
END:VEVENT
BEGIN:VEVENT
DTSTART;TZID=Pacific/Honolulu:20251030T180000
DTEND;TZID=Pacific/Honolulu:20251030T200000
DTSTAMP:20260421T085640
CREATED:20231012T212907Z
LAST-MODIFIED:20231012T212907Z
UID:12389-1761847200-1761854400@www.leilanis.com
SUMMARY:Live Music
DESCRIPTION:Every Thursday \n6:00-8:00pm | Jarret and George
URL:https://www.leilanis.com/event/live-music-8/2025-10-30/
LOCATION:2335 Kalakaua Ave #203\, Honolulu\, HI\, 96815\, United States
ATTACH;FMTTYPE=image/jpeg:https://www.leilanis.com/wp-content/uploads/2023/10/istockphoto-477710820-612x612-1.jpeg
GEO:21.2771844;-157.8275909
X-APPLE-STRUCTURED-LOCATION;VALUE=URI;X-ADDRESS=2335 Kalakaua Ave #203 Honolulu HI 96815 United States;X-APPLE-RADIUS=500;X-TITLE=2335 Kalakaua Ave #203:geo:-157.8275909,21.2771844
END:VEVENT
BEGIN:VEVENT
DTSTART;TZID=Pacific/Honolulu:20251023T180000
DTEND;TZID=Pacific/Honolulu:20251023T200000
DTSTAMP:20260421T085640
CREATED:20231012T212907Z
LAST-MODIFIED:20231012T212907Z
UID:12360-1761242400-1761249600@www.leilanis.com
SUMMARY:Live Music
DESCRIPTION:Every Thursday \n6:00-8:00pm | Jarret and George
URL:https://www.leilanis.com/event/live-music-8/2025-10-23/
LOCATION:2335 Kalakaua Ave #203\, Honolulu\, HI\, 96815\, United States
ATTACH;FMTTYPE=image/jpeg:https://www.leilanis.com/wp-content/uploads/2023/10/istockphoto-477710820-612x612-1.jpeg
GEO:21.2771844;-157.8275909
X-APPLE-STRUCTURED-LOCATION;VALUE=URI;X-ADDRESS=2335 Kalakaua Ave #203 Honolulu HI 96815 United States;X-APPLE-RADIUS=500;X-TITLE=2335 Kalakaua Ave #203:geo:-157.8275909,21.2771844
END:VEVENT
BEGIN:VEVENT
DTSTART;TZID=Pacific/Honolulu:20251016T180000
DTEND;TZID=Pacific/Honolulu:20251016T200000
DTSTAMP:20260421T085640
CREATED:20231012T212907Z
LAST-MODIFIED:20231012T212907Z
UID:12338-1760637600-1760644800@www.leilanis.com
SUMMARY:Live Music
DESCRIPTION:Every Thursday \n6:00-8:00pm | Jarret and George
URL:https://www.leilanis.com/event/live-music-8/2025-10-16/
LOCATION:2335 Kalakaua Ave #203\, Honolulu\, HI\, 96815\, United States
ATTACH;FMTTYPE=image/jpeg:https://www.leilanis.com/wp-content/uploads/2023/10/istockphoto-477710820-612x612-1.jpeg
GEO:21.2771844;-157.8275909
X-APPLE-STRUCTURED-LOCATION;VALUE=URI;X-ADDRESS=2335 Kalakaua Ave #203 Honolulu HI 96815 United States;X-APPLE-RADIUS=500;X-TITLE=2335 Kalakaua Ave #203:geo:-157.8275909,21.2771844
END:VEVENT
BEGIN:VEVENT
DTSTART;TZID=Pacific/Honolulu:20251009T180000
DTEND;TZID=Pacific/Honolulu:20251009T200000
DTSTAMP:20260421T085640
CREATED:20231012T212907Z
LAST-MODIFIED:20231012T213032Z
UID:11538-1760032800-1760040000@www.leilanis.com
SUMMARY:Live Music
DESCRIPTION:Every Thursday \n6:00-8:00pm | Jarret and George
URL:https://www.leilanis.com/event/live-music-8/2025-10-09/
LOCATION:2335 Kalakaua Ave #203\, Honolulu\, HI\, 96815\, United States
ATTACH;FMTTYPE=image/jpeg:https://www.leilanis.com/wp-content/uploads/2023/10/istockphoto-477710820-612x612-1.jpeg
GEO:21.2771844;-157.8275909
X-APPLE-STRUCTURED-LOCATION;VALUE=URI;X-ADDRESS=2335 Kalakaua Ave #203 Honolulu HI 96815 United States;X-APPLE-RADIUS=500;X-TITLE=2335 Kalakaua Ave #203:geo:-157.8275909,21.2771844
END:VEVENT
BEGIN:VEVENT
DTSTART;TZID=Pacific/Honolulu:20251002T180000
DTEND;TZID=Pacific/Honolulu:20251002T200000
DTSTAMP:20260421T085640
CREATED:20231012T212907Z
LAST-MODIFIED:20231012T213031Z
UID:11537-1759428000-1759435200@www.leilanis.com
SUMMARY:Live Music
DESCRIPTION:Every Thursday \n6:00-8:00pm | Jarret and George
URL:https://www.leilanis.com/event/live-music-8/2025-10-02/
LOCATION:2335 Kalakaua Ave #203\, Honolulu\, HI\, 96815\, United States
ATTACH;FMTTYPE=image/jpeg:https://www.leilanis.com/wp-content/uploads/2023/10/istockphoto-477710820-612x612-1.jpeg
GEO:21.2771844;-157.8275909
X-APPLE-STRUCTURED-LOCATION;VALUE=URI;X-ADDRESS=2335 Kalakaua Ave #203 Honolulu HI 96815 United States;X-APPLE-RADIUS=500;X-TITLE=2335 Kalakaua Ave #203:geo:-157.8275909,21.2771844
END:VEVENT
BEGIN:VEVENT
DTSTART;TZID=Pacific/Honolulu:20250925T180000
DTEND;TZID=Pacific/Honolulu:20250925T200000
DTSTAMP:20260421T085640
CREATED:20231012T212907Z
LAST-MODIFIED:20231012T213031Z
UID:11536-1758823200-1758830400@www.leilanis.com
SUMMARY:Live Music
DESCRIPTION:Every Thursday \n6:00-8:00pm | Jarret and George
URL:https://www.leilanis.com/event/live-music-8/2025-09-25/
LOCATION:2335 Kalakaua Ave #203\, Honolulu\, HI\, 96815\, United States
ATTACH;FMTTYPE=image/jpeg:https://www.leilanis.com/wp-content/uploads/2023/10/istockphoto-477710820-612x612-1.jpeg
GEO:21.2771844;-157.8275909
X-APPLE-STRUCTURED-LOCATION;VALUE=URI;X-ADDRESS=2335 Kalakaua Ave #203 Honolulu HI 96815 United States;X-APPLE-RADIUS=500;X-TITLE=2335 Kalakaua Ave #203:geo:-157.8275909,21.2771844
END:VEVENT
END:VCALENDAR