BEGIN:VCALENDAR
VERSION:2.0
PRODID:-//Leilani&#039;s on the Beach - ECPv6.15.5//NONSGML v1.0//EN
CALSCALE:GREGORIAN
METHOD:PUBLISH
X-WR-CALNAME:Leilani&#039;s on the Beach
X-ORIGINAL-URL:https://www.leilanis.com
X-WR-CALDESC:Events for Leilani&#039;s on the Beach
REFRESH-INTERVAL;VALUE=DURATION:PT1H
X-Robots-Tag:noindex
X-PUBLISHED-TTL:PT1H
BEGIN:VTIMEZONE
TZID:Pacific/Honolulu
BEGIN:STANDARD
TZOFFSETFROM:-1000
TZOFFSETTO:-1000
TZNAME:HST
DTSTART:20250101T000000
END:STANDARD
END:VTIMEZONE
BEGIN:VEVENT
DTSTART;TZID=Pacific/Honolulu:20260415T150000
DTEND;TZID=Pacific/Honolulu:20260415T170000
DTSTAMP:20260421T105143
CREATED:20231012T212331Z
LAST-MODIFIED:20240703T205514Z
UID:12828-1776265200-1776272400@www.leilanis.com
SUMMARY:Live Music
DESCRIPTION:Every Wednesday \n3:00-5:00pm | 3 Pounds of Kalo
URL:https://www.leilanis.com/event/live-music-5/2026-04-15/
LOCATION:2335 Kalakaua Ave #203\, Honolulu\, HI\, 96815\, United States
ATTACH;FMTTYPE=image/jpeg:https://www.leilanis.com/wp-content/uploads/2023/10/istockphoto-477710820-612x612-1.jpeg
GEO:21.2771844;-157.8275909
X-APPLE-STRUCTURED-LOCATION;VALUE=URI;X-ADDRESS=2335 Kalakaua Ave #203 Honolulu HI 96815 United States;X-APPLE-RADIUS=500;X-TITLE=2335 Kalakaua Ave #203:geo:-157.8275909,21.2771844
END:VEVENT
BEGIN:VEVENT
DTSTART;TZID=Pacific/Honolulu:20260408T150000
DTEND;TZID=Pacific/Honolulu:20260408T170000
DTSTAMP:20260421T105143
CREATED:20231012T212331Z
LAST-MODIFIED:20240703T205514Z
UID:12813-1775660400-1775667600@www.leilanis.com
SUMMARY:Live Music
DESCRIPTION:Every Wednesday \n3:00-5:00pm | 3 Pounds of Kalo
URL:https://www.leilanis.com/event/live-music-5/2026-04-08/
LOCATION:2335 Kalakaua Ave #203\, Honolulu\, HI\, 96815\, United States
ATTACH;FMTTYPE=image/jpeg:https://www.leilanis.com/wp-content/uploads/2023/10/istockphoto-477710820-612x612-1.jpeg
GEO:21.2771844;-157.8275909
X-APPLE-STRUCTURED-LOCATION;VALUE=URI;X-ADDRESS=2335 Kalakaua Ave #203 Honolulu HI 96815 United States;X-APPLE-RADIUS=500;X-TITLE=2335 Kalakaua Ave #203:geo:-157.8275909,21.2771844
END:VEVENT
BEGIN:VEVENT
DTSTART;TZID=Pacific/Honolulu:20260401T150000
DTEND;TZID=Pacific/Honolulu:20260401T170000
DTSTAMP:20260421T105143
CREATED:20231012T212331Z
LAST-MODIFIED:20240703T205514Z
UID:12798-1775055600-1775062800@www.leilanis.com
SUMMARY:Live Music
DESCRIPTION:Every Wednesday \n3:00-5:00pm | 3 Pounds of Kalo
URL:https://www.leilanis.com/event/live-music-5/2026-04-01/
LOCATION:2335 Kalakaua Ave #203\, Honolulu\, HI\, 96815\, United States
ATTACH;FMTTYPE=image/jpeg:https://www.leilanis.com/wp-content/uploads/2023/10/istockphoto-477710820-612x612-1.jpeg
GEO:21.2771844;-157.8275909
X-APPLE-STRUCTURED-LOCATION;VALUE=URI;X-ADDRESS=2335 Kalakaua Ave #203 Honolulu HI 96815 United States;X-APPLE-RADIUS=500;X-TITLE=2335 Kalakaua Ave #203:geo:-157.8275909,21.2771844
END:VEVENT
BEGIN:VEVENT
DTSTART;TZID=Pacific/Honolulu:20260325T150000
DTEND;TZID=Pacific/Honolulu:20260325T170000
DTSTAMP:20260421T105143
CREATED:20231012T212331Z
LAST-MODIFIED:20240703T205514Z
UID:12783-1774450800-1774458000@www.leilanis.com
SUMMARY:Live Music
DESCRIPTION:Every Wednesday \n3:00-5:00pm | 3 Pounds of Kalo
URL:https://www.leilanis.com/event/live-music-5/2026-03-25/
LOCATION:2335 Kalakaua Ave #203\, Honolulu\, HI\, 96815\, United States
ATTACH;FMTTYPE=image/jpeg:https://www.leilanis.com/wp-content/uploads/2023/10/istockphoto-477710820-612x612-1.jpeg
GEO:21.2771844;-157.8275909
X-APPLE-STRUCTURED-LOCATION;VALUE=URI;X-ADDRESS=2335 Kalakaua Ave #203 Honolulu HI 96815 United States;X-APPLE-RADIUS=500;X-TITLE=2335 Kalakaua Ave #203:geo:-157.8275909,21.2771844
END:VEVENT
BEGIN:VEVENT
DTSTART;TZID=Pacific/Honolulu:20260318T150000
DTEND;TZID=Pacific/Honolulu:20260318T170000
DTSTAMP:20260421T105143
CREATED:20231012T212331Z
LAST-MODIFIED:20240703T205513Z
UID:12768-1773846000-1773853200@www.leilanis.com
SUMMARY:Live Music
DESCRIPTION:Every Wednesday \n3:00-5:00pm | 3 Pounds of Kalo
URL:https://www.leilanis.com/event/live-music-5/2026-03-18/
LOCATION:2335 Kalakaua Ave #203\, Honolulu\, HI\, 96815\, United States
ATTACH;FMTTYPE=image/jpeg:https://www.leilanis.com/wp-content/uploads/2023/10/istockphoto-477710820-612x612-1.jpeg
GEO:21.2771844;-157.8275909
X-APPLE-STRUCTURED-LOCATION;VALUE=URI;X-ADDRESS=2335 Kalakaua Ave #203 Honolulu HI 96815 United States;X-APPLE-RADIUS=500;X-TITLE=2335 Kalakaua Ave #203:geo:-157.8275909,21.2771844
END:VEVENT
BEGIN:VEVENT
DTSTART;TZID=Pacific/Honolulu:20260311T150000
DTEND;TZID=Pacific/Honolulu:20260311T170000
DTSTAMP:20260421T105143
CREATED:20231012T212331Z
LAST-MODIFIED:20240703T205513Z
UID:12753-1773241200-1773248400@www.leilanis.com
SUMMARY:Live Music
DESCRIPTION:Every Wednesday \n3:00-5:00pm | 3 Pounds of Kalo
URL:https://www.leilanis.com/event/live-music-5/2026-03-11/
LOCATION:2335 Kalakaua Ave #203\, Honolulu\, HI\, 96815\, United States
ATTACH;FMTTYPE=image/jpeg:https://www.leilanis.com/wp-content/uploads/2023/10/istockphoto-477710820-612x612-1.jpeg
GEO:21.2771844;-157.8275909
X-APPLE-STRUCTURED-LOCATION;VALUE=URI;X-ADDRESS=2335 Kalakaua Ave #203 Honolulu HI 96815 United States;X-APPLE-RADIUS=500;X-TITLE=2335 Kalakaua Ave #203:geo:-157.8275909,21.2771844
END:VEVENT
BEGIN:VEVENT
DTSTART;TZID=Pacific/Honolulu:20260304T150000
DTEND;TZID=Pacific/Honolulu:20260304T170000
DTSTAMP:20260421T105143
CREATED:20231012T212331Z
LAST-MODIFIED:20240703T205513Z
UID:12738-1772636400-1772643600@www.leilanis.com
SUMMARY:Live Music
DESCRIPTION:Every Wednesday \n3:00-5:00pm | 3 Pounds of Kalo
URL:https://www.leilanis.com/event/live-music-5/2026-03-04/
LOCATION:2335 Kalakaua Ave #203\, Honolulu\, HI\, 96815\, United States
ATTACH;FMTTYPE=image/jpeg:https://www.leilanis.com/wp-content/uploads/2023/10/istockphoto-477710820-612x612-1.jpeg
GEO:21.2771844;-157.8275909
X-APPLE-STRUCTURED-LOCATION;VALUE=URI;X-ADDRESS=2335 Kalakaua Ave #203 Honolulu HI 96815 United States;X-APPLE-RADIUS=500;X-TITLE=2335 Kalakaua Ave #203:geo:-157.8275909,21.2771844
END:VEVENT
BEGIN:VEVENT
DTSTART;TZID=Pacific/Honolulu:20260225T150000
DTEND;TZID=Pacific/Honolulu:20260225T170000
DTSTAMP:20260421T105143
CREATED:20231012T212331Z
LAST-MODIFIED:20240703T205513Z
UID:12723-1772031600-1772038800@www.leilanis.com
SUMMARY:Live Music
DESCRIPTION:Every Wednesday \n3:00-5:00pm | 3 Pounds of Kalo
URL:https://www.leilanis.com/event/live-music-5/2026-02-25/
LOCATION:2335 Kalakaua Ave #203\, Honolulu\, HI\, 96815\, United States
ATTACH;FMTTYPE=image/jpeg:https://www.leilanis.com/wp-content/uploads/2023/10/istockphoto-477710820-612x612-1.jpeg
GEO:21.2771844;-157.8275909
X-APPLE-STRUCTURED-LOCATION;VALUE=URI;X-ADDRESS=2335 Kalakaua Ave #203 Honolulu HI 96815 United States;X-APPLE-RADIUS=500;X-TITLE=2335 Kalakaua Ave #203:geo:-157.8275909,21.2771844
END:VEVENT
BEGIN:VEVENT
DTSTART;TZID=Pacific/Honolulu:20260218T150000
DTEND;TZID=Pacific/Honolulu:20260218T170000
DTSTAMP:20260421T105143
CREATED:20231012T212331Z
LAST-MODIFIED:20240703T205513Z
UID:12708-1771426800-1771434000@www.leilanis.com
SUMMARY:Live Music
DESCRIPTION:Every Wednesday \n3:00-5:00pm | 3 Pounds of Kalo
URL:https://www.leilanis.com/event/live-music-5/2026-02-18/
LOCATION:2335 Kalakaua Ave #203\, Honolulu\, HI\, 96815\, United States
ATTACH;FMTTYPE=image/jpeg:https://www.leilanis.com/wp-content/uploads/2023/10/istockphoto-477710820-612x612-1.jpeg
GEO:21.2771844;-157.8275909
X-APPLE-STRUCTURED-LOCATION;VALUE=URI;X-ADDRESS=2335 Kalakaua Ave #203 Honolulu HI 96815 United States;X-APPLE-RADIUS=500;X-TITLE=2335 Kalakaua Ave #203:geo:-157.8275909,21.2771844
END:VEVENT
BEGIN:VEVENT
DTSTART;TZID=Pacific/Honolulu:20260211T150000
DTEND;TZID=Pacific/Honolulu:20260211T170000
DTSTAMP:20260421T105143
CREATED:20231012T212331Z
LAST-MODIFIED:20240703T205513Z
UID:12691-1770822000-1770829200@www.leilanis.com
SUMMARY:Live Music
DESCRIPTION:Every Wednesday \n3:00-5:00pm | 3 Pounds of Kalo
URL:https://www.leilanis.com/event/live-music-5/2026-02-11/
LOCATION:2335 Kalakaua Ave #203\, Honolulu\, HI\, 96815\, United States
ATTACH;FMTTYPE=image/jpeg:https://www.leilanis.com/wp-content/uploads/2023/10/istockphoto-477710820-612x612-1.jpeg
GEO:21.2771844;-157.8275909
X-APPLE-STRUCTURED-LOCATION;VALUE=URI;X-ADDRESS=2335 Kalakaua Ave #203 Honolulu HI 96815 United States;X-APPLE-RADIUS=500;X-TITLE=2335 Kalakaua Ave #203:geo:-157.8275909,21.2771844
END:VEVENT
BEGIN:VEVENT
DTSTART;TZID=Pacific/Honolulu:20260204T150000
DTEND;TZID=Pacific/Honolulu:20260204T170000
DTSTAMP:20260421T105143
CREATED:20231012T212331Z
LAST-MODIFIED:20240703T205512Z
UID:12674-1770217200-1770224400@www.leilanis.com
SUMMARY:Live Music
DESCRIPTION:Every Wednesday \n3:00-5:00pm | 3 Pounds of Kalo
URL:https://www.leilanis.com/event/live-music-5/2026-02-04/
LOCATION:2335 Kalakaua Ave #203\, Honolulu\, HI\, 96815\, United States
ATTACH;FMTTYPE=image/jpeg:https://www.leilanis.com/wp-content/uploads/2023/10/istockphoto-477710820-612x612-1.jpeg
GEO:21.2771844;-157.8275909
X-APPLE-STRUCTURED-LOCATION;VALUE=URI;X-ADDRESS=2335 Kalakaua Ave #203 Honolulu HI 96815 United States;X-APPLE-RADIUS=500;X-TITLE=2335 Kalakaua Ave #203:geo:-157.8275909,21.2771844
END:VEVENT
BEGIN:VEVENT
DTSTART;TZID=Pacific/Honolulu:20260128T150000
DTEND;TZID=Pacific/Honolulu:20260128T170000
DTSTAMP:20260421T105143
CREATED:20231012T212331Z
LAST-MODIFIED:20240703T205512Z
UID:12659-1769612400-1769619600@www.leilanis.com
SUMMARY:Live Music
DESCRIPTION:Every Wednesday \n3:00-5:00pm | 3 Pounds of Kalo
URL:https://www.leilanis.com/event/live-music-5/2026-01-28/
LOCATION:2335 Kalakaua Ave #203\, Honolulu\, HI\, 96815\, United States
ATTACH;FMTTYPE=image/jpeg:https://www.leilanis.com/wp-content/uploads/2023/10/istockphoto-477710820-612x612-1.jpeg
GEO:21.2771844;-157.8275909
X-APPLE-STRUCTURED-LOCATION;VALUE=URI;X-ADDRESS=2335 Kalakaua Ave #203 Honolulu HI 96815 United States;X-APPLE-RADIUS=500;X-TITLE=2335 Kalakaua Ave #203:geo:-157.8275909,21.2771844
END:VEVENT
BEGIN:VEVENT
DTSTART;TZID=Pacific/Honolulu:20260121T150000
DTEND;TZID=Pacific/Honolulu:20260121T170000
DTSTAMP:20260421T105143
CREATED:20231012T212331Z
LAST-MODIFIED:20240703T205512Z
UID:12640-1769007600-1769014800@www.leilanis.com
SUMMARY:Live Music
DESCRIPTION:Every Wednesday \n3:00-5:00pm | 3 Pounds of Kalo
URL:https://www.leilanis.com/event/live-music-5/2026-01-21/
LOCATION:2335 Kalakaua Ave #203\, Honolulu\, HI\, 96815\, United States
ATTACH;FMTTYPE=image/jpeg:https://www.leilanis.com/wp-content/uploads/2023/10/istockphoto-477710820-612x612-1.jpeg
GEO:21.2771844;-157.8275909
X-APPLE-STRUCTURED-LOCATION;VALUE=URI;X-ADDRESS=2335 Kalakaua Ave #203 Honolulu HI 96815 United States;X-APPLE-RADIUS=500;X-TITLE=2335 Kalakaua Ave #203:geo:-157.8275909,21.2771844
END:VEVENT
BEGIN:VEVENT
DTSTART;TZID=Pacific/Honolulu:20260114T150000
DTEND;TZID=Pacific/Honolulu:20260114T170000
DTSTAMP:20260421T105143
CREATED:20231012T212331Z
LAST-MODIFIED:20240703T205511Z
UID:12625-1768402800-1768410000@www.leilanis.com
SUMMARY:Live Music
DESCRIPTION:Every Wednesday \n3:00-5:00pm | 3 Pounds of Kalo
URL:https://www.leilanis.com/event/live-music-5/2026-01-14/
LOCATION:2335 Kalakaua Ave #203\, Honolulu\, HI\, 96815\, United States
ATTACH;FMTTYPE=image/jpeg:https://www.leilanis.com/wp-content/uploads/2023/10/istockphoto-477710820-612x612-1.jpeg
GEO:21.2771844;-157.8275909
X-APPLE-STRUCTURED-LOCATION;VALUE=URI;X-ADDRESS=2335 Kalakaua Ave #203 Honolulu HI 96815 United States;X-APPLE-RADIUS=500;X-TITLE=2335 Kalakaua Ave #203:geo:-157.8275909,21.2771844
END:VEVENT
BEGIN:VEVENT
DTSTART;TZID=Pacific/Honolulu:20260107T150000
DTEND;TZID=Pacific/Honolulu:20260107T170000
DTSTAMP:20260421T105143
CREATED:20231012T212331Z
LAST-MODIFIED:20240703T205511Z
UID:12556-1767798000-1767805200@www.leilanis.com
SUMMARY:Live Music
DESCRIPTION:Every Wednesday \n3:00-5:00pm | 3 Pounds of Kalo
URL:https://www.leilanis.com/event/live-music-5/2026-01-07/
LOCATION:2335 Kalakaua Ave #203\, Honolulu\, HI\, 96815\, United States
ATTACH;FMTTYPE=image/jpeg:https://www.leilanis.com/wp-content/uploads/2023/10/istockphoto-477710820-612x612-1.jpeg
GEO:21.2771844;-157.8275909
X-APPLE-STRUCTURED-LOCATION;VALUE=URI;X-ADDRESS=2335 Kalakaua Ave #203 Honolulu HI 96815 United States;X-APPLE-RADIUS=500;X-TITLE=2335 Kalakaua Ave #203:geo:-157.8275909,21.2771844
END:VEVENT
BEGIN:VEVENT
DTSTART;TZID=Pacific/Honolulu:20251231T150000
DTEND;TZID=Pacific/Honolulu:20251231T170000
DTSTAMP:20260421T105143
CREATED:20231012T212331Z
LAST-MODIFIED:20240703T205511Z
UID:12541-1767193200-1767200400@www.leilanis.com
SUMMARY:Live Music
DESCRIPTION:Every Wednesday \n3:00-5:00pm | 3 Pounds of Kalo
URL:https://www.leilanis.com/event/live-music-5/2025-12-31/
LOCATION:2335 Kalakaua Ave #203\, Honolulu\, HI\, 96815\, United States
ATTACH;FMTTYPE=image/jpeg:https://www.leilanis.com/wp-content/uploads/2023/10/istockphoto-477710820-612x612-1.jpeg
GEO:21.2771844;-157.8275909
X-APPLE-STRUCTURED-LOCATION;VALUE=URI;X-ADDRESS=2335 Kalakaua Ave #203 Honolulu HI 96815 United States;X-APPLE-RADIUS=500;X-TITLE=2335 Kalakaua Ave #203:geo:-157.8275909,21.2771844
END:VEVENT
BEGIN:VEVENT
DTSTART;TZID=Pacific/Honolulu:20251224T150000
DTEND;TZID=Pacific/Honolulu:20251224T170000
DTSTAMP:20260421T105143
CREATED:20231012T212331Z
LAST-MODIFIED:20240703T205511Z
UID:12526-1766588400-1766595600@www.leilanis.com
SUMMARY:Live Music
DESCRIPTION:Every Wednesday \n3:00-5:00pm | 3 Pounds of Kalo
URL:https://www.leilanis.com/event/live-music-5/2025-12-24/
LOCATION:2335 Kalakaua Ave #203\, Honolulu\, HI\, 96815\, United States
ATTACH;FMTTYPE=image/jpeg:https://www.leilanis.com/wp-content/uploads/2023/10/istockphoto-477710820-612x612-1.jpeg
GEO:21.2771844;-157.8275909
X-APPLE-STRUCTURED-LOCATION;VALUE=URI;X-ADDRESS=2335 Kalakaua Ave #203 Honolulu HI 96815 United States;X-APPLE-RADIUS=500;X-TITLE=2335 Kalakaua Ave #203:geo:-157.8275909,21.2771844
END:VEVENT
BEGIN:VEVENT
DTSTART;TZID=Pacific/Honolulu:20251217T150000
DTEND;TZID=Pacific/Honolulu:20251217T170000
DTSTAMP:20260421T105143
CREATED:20231012T212331Z
LAST-MODIFIED:20240703T205511Z
UID:12510-1765983600-1765990800@www.leilanis.com
SUMMARY:Live Music
DESCRIPTION:Every Wednesday \n3:00-5:00pm | 3 Pounds of Kalo
URL:https://www.leilanis.com/event/live-music-5/2025-12-17/
LOCATION:2335 Kalakaua Ave #203\, Honolulu\, HI\, 96815\, United States
ATTACH;FMTTYPE=image/jpeg:https://www.leilanis.com/wp-content/uploads/2023/10/istockphoto-477710820-612x612-1.jpeg
GEO:21.2771844;-157.8275909
X-APPLE-STRUCTURED-LOCATION;VALUE=URI;X-ADDRESS=2335 Kalakaua Ave #203 Honolulu HI 96815 United States;X-APPLE-RADIUS=500;X-TITLE=2335 Kalakaua Ave #203:geo:-157.8275909,21.2771844
END:VEVENT
BEGIN:VEVENT
DTSTART;TZID=Pacific/Honolulu:20251210T150000
DTEND;TZID=Pacific/Honolulu:20251210T170000
DTSTAMP:20260421T105143
CREATED:20231012T212331Z
LAST-MODIFIED:20240703T205510Z
UID:12495-1765378800-1765386000@www.leilanis.com
SUMMARY:Live Music
DESCRIPTION:Every Wednesday \n3:00-5:00pm | 3 Pounds of Kalo
URL:https://www.leilanis.com/event/live-music-5/2025-12-10/
LOCATION:2335 Kalakaua Ave #203\, Honolulu\, HI\, 96815\, United States
ATTACH;FMTTYPE=image/jpeg:https://www.leilanis.com/wp-content/uploads/2023/10/istockphoto-477710820-612x612-1.jpeg
GEO:21.2771844;-157.8275909
X-APPLE-STRUCTURED-LOCATION;VALUE=URI;X-ADDRESS=2335 Kalakaua Ave #203 Honolulu HI 96815 United States;X-APPLE-RADIUS=500;X-TITLE=2335 Kalakaua Ave #203:geo:-157.8275909,21.2771844
END:VEVENT
BEGIN:VEVENT
DTSTART;TZID=Pacific/Honolulu:20251203T150000
DTEND;TZID=Pacific/Honolulu:20251203T170000
DTSTAMP:20260421T105143
CREATED:20231012T212331Z
LAST-MODIFIED:20240703T205510Z
UID:12479-1764774000-1764781200@www.leilanis.com
SUMMARY:Live Music
DESCRIPTION:Every Wednesday \n3:00-5:00pm | 3 Pounds of Kalo
URL:https://www.leilanis.com/event/live-music-5/2025-12-03/
LOCATION:2335 Kalakaua Ave #203\, Honolulu\, HI\, 96815\, United States
ATTACH;FMTTYPE=image/jpeg:https://www.leilanis.com/wp-content/uploads/2023/10/istockphoto-477710820-612x612-1.jpeg
GEO:21.2771844;-157.8275909
X-APPLE-STRUCTURED-LOCATION;VALUE=URI;X-ADDRESS=2335 Kalakaua Ave #203 Honolulu HI 96815 United States;X-APPLE-RADIUS=500;X-TITLE=2335 Kalakaua Ave #203:geo:-157.8275909,21.2771844
END:VEVENT
BEGIN:VEVENT
DTSTART;TZID=Pacific/Honolulu:20251126T150000
DTEND;TZID=Pacific/Honolulu:20251126T170000
DTSTAMP:20260421T105143
CREATED:20231012T212331Z
LAST-MODIFIED:20240703T205510Z
UID:12463-1764169200-1764176400@www.leilanis.com
SUMMARY:Live Music
DESCRIPTION:Every Wednesday \n3:00-5:00pm | 3 Pounds of Kalo
URL:https://www.leilanis.com/event/live-music-5/2025-11-26/
LOCATION:2335 Kalakaua Ave #203\, Honolulu\, HI\, 96815\, United States
ATTACH;FMTTYPE=image/jpeg:https://www.leilanis.com/wp-content/uploads/2023/10/istockphoto-477710820-612x612-1.jpeg
GEO:21.2771844;-157.8275909
X-APPLE-STRUCTURED-LOCATION;VALUE=URI;X-ADDRESS=2335 Kalakaua Ave #203 Honolulu HI 96815 United States;X-APPLE-RADIUS=500;X-TITLE=2335 Kalakaua Ave #203:geo:-157.8275909,21.2771844
END:VEVENT
BEGIN:VEVENT
DTSTART;TZID=Pacific/Honolulu:20251119T150000
DTEND;TZID=Pacific/Honolulu:20251119T170000
DTSTAMP:20260421T105143
CREATED:20231012T212331Z
LAST-MODIFIED:20240703T205509Z
UID:12443-1763564400-1763571600@www.leilanis.com
SUMMARY:Live Music
DESCRIPTION:Every Wednesday \n3:00-5:00pm | 3 Pounds of Kalo
URL:https://www.leilanis.com/event/live-music-5/2025-11-19/
LOCATION:2335 Kalakaua Ave #203\, Honolulu\, HI\, 96815\, United States
ATTACH;FMTTYPE=image/jpeg:https://www.leilanis.com/wp-content/uploads/2023/10/istockphoto-477710820-612x612-1.jpeg
GEO:21.2771844;-157.8275909
X-APPLE-STRUCTURED-LOCATION;VALUE=URI;X-ADDRESS=2335 Kalakaua Ave #203 Honolulu HI 96815 United States;X-APPLE-RADIUS=500;X-TITLE=2335 Kalakaua Ave #203:geo:-157.8275909,21.2771844
END:VEVENT
BEGIN:VEVENT
DTSTART;TZID=Pacific/Honolulu:20251112T150000
DTEND;TZID=Pacific/Honolulu:20251112T170000
DTSTAMP:20260421T105143
CREATED:20231012T212331Z
LAST-MODIFIED:20240703T205509Z
UID:12428-1762959600-1762966800@www.leilanis.com
SUMMARY:Live Music
DESCRIPTION:Every Wednesday \n3:00-5:00pm | 3 Pounds of Kalo
URL:https://www.leilanis.com/event/live-music-5/2025-11-12/
LOCATION:2335 Kalakaua Ave #203\, Honolulu\, HI\, 96815\, United States
ATTACH;FMTTYPE=image/jpeg:https://www.leilanis.com/wp-content/uploads/2023/10/istockphoto-477710820-612x612-1.jpeg
GEO:21.2771844;-157.8275909
X-APPLE-STRUCTURED-LOCATION;VALUE=URI;X-ADDRESS=2335 Kalakaua Ave #203 Honolulu HI 96815 United States;X-APPLE-RADIUS=500;X-TITLE=2335 Kalakaua Ave #203:geo:-157.8275909,21.2771844
END:VEVENT
BEGIN:VEVENT
DTSTART;TZID=Pacific/Honolulu:20251105T150000
DTEND;TZID=Pacific/Honolulu:20251105T170000
DTSTAMP:20260421T105143
CREATED:20231012T212331Z
LAST-MODIFIED:20240703T205509Z
UID:12407-1762354800-1762362000@www.leilanis.com
SUMMARY:Live Music
DESCRIPTION:Every Wednesday \n3:00-5:00pm | 3 Pounds of Kalo
URL:https://www.leilanis.com/event/live-music-5/2025-11-05/
LOCATION:2335 Kalakaua Ave #203\, Honolulu\, HI\, 96815\, United States
ATTACH;FMTTYPE=image/jpeg:https://www.leilanis.com/wp-content/uploads/2023/10/istockphoto-477710820-612x612-1.jpeg
GEO:21.2771844;-157.8275909
X-APPLE-STRUCTURED-LOCATION;VALUE=URI;X-ADDRESS=2335 Kalakaua Ave #203 Honolulu HI 96815 United States;X-APPLE-RADIUS=500;X-TITLE=2335 Kalakaua Ave #203:geo:-157.8275909,21.2771844
END:VEVENT
BEGIN:VEVENT
DTSTART;TZID=Pacific/Honolulu:20251029T150000
DTEND;TZID=Pacific/Honolulu:20251029T170000
DTSTAMP:20260421T105143
CREATED:20231012T212331Z
LAST-MODIFIED:20240703T205509Z
UID:12384-1761750000-1761757200@www.leilanis.com
SUMMARY:Live Music
DESCRIPTION:Every Wednesday \n3:00-5:00pm | 3 Pounds of Kalo
URL:https://www.leilanis.com/event/live-music-5/2025-10-29/
LOCATION:2335 Kalakaua Ave #203\, Honolulu\, HI\, 96815\, United States
ATTACH;FMTTYPE=image/jpeg:https://www.leilanis.com/wp-content/uploads/2023/10/istockphoto-477710820-612x612-1.jpeg
GEO:21.2771844;-157.8275909
X-APPLE-STRUCTURED-LOCATION;VALUE=URI;X-ADDRESS=2335 Kalakaua Ave #203 Honolulu HI 96815 United States;X-APPLE-RADIUS=500;X-TITLE=2335 Kalakaua Ave #203:geo:-157.8275909,21.2771844
END:VEVENT
BEGIN:VEVENT
DTSTART;TZID=Pacific/Honolulu:20251022T150000
DTEND;TZID=Pacific/Honolulu:20251022T170000
DTSTAMP:20260421T105143
CREATED:20231012T212331Z
LAST-MODIFIED:20240703T205509Z
UID:12356-1761145200-1761152400@www.leilanis.com
SUMMARY:Live Music
DESCRIPTION:Every Wednesday \n3:00-5:00pm | 3 Pounds of Kalo
URL:https://www.leilanis.com/event/live-music-5/2025-10-22/
LOCATION:2335 Kalakaua Ave #203\, Honolulu\, HI\, 96815\, United States
ATTACH;FMTTYPE=image/jpeg:https://www.leilanis.com/wp-content/uploads/2023/10/istockphoto-477710820-612x612-1.jpeg
GEO:21.2771844;-157.8275909
X-APPLE-STRUCTURED-LOCATION;VALUE=URI;X-ADDRESS=2335 Kalakaua Ave #203 Honolulu HI 96815 United States;X-APPLE-RADIUS=500;X-TITLE=2335 Kalakaua Ave #203:geo:-157.8275909,21.2771844
END:VEVENT
BEGIN:VEVENT
DTSTART;TZID=Pacific/Honolulu:20251015T150000
DTEND;TZID=Pacific/Honolulu:20251015T170000
DTSTAMP:20260421T105143
CREATED:20231012T212331Z
LAST-MODIFIED:20240703T205509Z
UID:12334-1760540400-1760547600@www.leilanis.com
SUMMARY:Live Music
DESCRIPTION:Every Wednesday \n3:00-5:00pm | 3 Pounds of Kalo
URL:https://www.leilanis.com/event/live-music-5/2025-10-15/
LOCATION:2335 Kalakaua Ave #203\, Honolulu\, HI\, 96815\, United States
ATTACH;FMTTYPE=image/jpeg:https://www.leilanis.com/wp-content/uploads/2023/10/istockphoto-477710820-612x612-1.jpeg
GEO:21.2771844;-157.8275909
X-APPLE-STRUCTURED-LOCATION;VALUE=URI;X-ADDRESS=2335 Kalakaua Ave #203 Honolulu HI 96815 United States;X-APPLE-RADIUS=500;X-TITLE=2335 Kalakaua Ave #203:geo:-157.8275909,21.2771844
END:VEVENT
BEGIN:VEVENT
DTSTART;TZID=Pacific/Honolulu:20251008T150000
DTEND;TZID=Pacific/Honolulu:20251008T170000
DTSTAMP:20260421T105143
CREATED:20231012T212331Z
LAST-MODIFIED:20240703T205508Z
UID:13037-1759935600-1759942800@www.leilanis.com
SUMMARY:Live Music
DESCRIPTION:Every Wednesday \n3:00-5:00pm | 3 Pounds of Kalo
URL:https://www.leilanis.com/event/live-music-5/2025-10-08/
LOCATION:2335 Kalakaua Ave #203\, Honolulu\, HI\, 96815\, United States
ATTACH;FMTTYPE=image/jpeg:https://www.leilanis.com/wp-content/uploads/2023/10/istockphoto-477710820-612x612-1.jpeg
GEO:21.2771844;-157.8275909
X-APPLE-STRUCTURED-LOCATION;VALUE=URI;X-ADDRESS=2335 Kalakaua Ave #203 Honolulu HI 96815 United States;X-APPLE-RADIUS=500;X-TITLE=2335 Kalakaua Ave #203:geo:-157.8275909,21.2771844
END:VEVENT
BEGIN:VEVENT
DTSTART;TZID=Pacific/Honolulu:20251001T150000
DTEND;TZID=Pacific/Honolulu:20251001T170000
DTSTAMP:20260421T105143
CREATED:20231012T212331Z
LAST-MODIFIED:20240703T205508Z
UID:13036-1759330800-1759338000@www.leilanis.com
SUMMARY:Live Music
DESCRIPTION:Every Wednesday \n3:00-5:00pm | 3 Pounds of Kalo
URL:https://www.leilanis.com/event/live-music-5/2025-10-01/
LOCATION:2335 Kalakaua Ave #203\, Honolulu\, HI\, 96815\, United States
ATTACH;FMTTYPE=image/jpeg:https://www.leilanis.com/wp-content/uploads/2023/10/istockphoto-477710820-612x612-1.jpeg
GEO:21.2771844;-157.8275909
X-APPLE-STRUCTURED-LOCATION;VALUE=URI;X-ADDRESS=2335 Kalakaua Ave #203 Honolulu HI 96815 United States;X-APPLE-RADIUS=500;X-TITLE=2335 Kalakaua Ave #203:geo:-157.8275909,21.2771844
END:VEVENT
BEGIN:VEVENT
DTSTART;TZID=Pacific/Honolulu:20250924T150000
DTEND;TZID=Pacific/Honolulu:20250924T170000
DTSTAMP:20260421T105143
CREATED:20231012T212331Z
LAST-MODIFIED:20240703T205508Z
UID:13035-1758726000-1758733200@www.leilanis.com
SUMMARY:Live Music
DESCRIPTION:Every Wednesday \n3:00-5:00pm | 3 Pounds of Kalo
URL:https://www.leilanis.com/event/live-music-5/2025-09-24/
LOCATION:2335 Kalakaua Ave #203\, Honolulu\, HI\, 96815\, United States
ATTACH;FMTTYPE=image/jpeg:https://www.leilanis.com/wp-content/uploads/2023/10/istockphoto-477710820-612x612-1.jpeg
GEO:21.2771844;-157.8275909
X-APPLE-STRUCTURED-LOCATION;VALUE=URI;X-ADDRESS=2335 Kalakaua Ave #203 Honolulu HI 96815 United States;X-APPLE-RADIUS=500;X-TITLE=2335 Kalakaua Ave #203:geo:-157.8275909,21.2771844
END:VEVENT
END:VCALENDAR